BEGIN:VCALENDAR
VERSION:2.0
PRODID:-//STRAWANZERIN - ECPv4.9.5//NONSGML v1.0//EN
CALSCALE:GREGORIAN
METHOD:PUBLISH
X-WR-CALNAME:STRAWANZERIN
X-ORIGINAL-URL:https://www.strawanzerin.at
X-WR-CALDESC:Veranstaltungen im STRAWANZERIN
BEGIN:VTIMEZONE
TZID:"Europe/Helsinki"
BEGIN:DAYLIGHT
TZOFFSETFROM:+0200
TZOFFSETTO:+0300
TZNAME:EEST
DTSTART:20140330T010000
END:DAYLIGHT
BEGIN:STANDARD
TZOFFSETFROM:+0300
TZOFFSETTO:+0200
TZNAME:EET
DTSTART:20141026T010000
END:STANDARD
END:VTIMEZONE
BEGIN:VEVENT
DTSTART;TZID="Europe/Helsinki":20141022T200000
DTEND;TZID="Europe/Helsinki":20141022T220000
DTSTAMP:20260422T191117
CREATED:20141007T135829Z
LAST-MODIFIED:20141010T084919Z
UID:7818-1414008000-1414015200@www.strawanzerin.at
SUMMARY:Seawas\, bist a krank? - El Awadalla im Industrie!
DESCRIPTION:Seawas\, bist a krank?\nDie über die Grenzen hinaus bekannte Wiener-Dialekt-Autorin El Awadalla hat Wien in den vergangenen zwei Jahren mit ihren Recherchen wieder unsicher gemacht und präsentiert in ihrem neuesten Buch tiefe und tiefgründige Dialoge aus dem Krankenhaus. \n
URL:https://www.strawanzerin.at/termin/seawas-bist-a-krank-el-awadalla-im-industrie/
LOCATION:Traditionscafé Industrie\, Margaretengürtel 12\, Wien\, Wien\, 1050\, Österreich
CATEGORIES:Deutsch,freie Spende,Literatur,Sonstiges,Wien
ATTACH;FMTTYPE=image/jpeg:https://www.strawanzerin.at/wp-content/uploads/2014/10/el_awadalla_fb.jpg
ORGANIZER;CN="Ruth%20Binder":MAILTO:event@cafe-industrie.at
GEO:48.1838252;16.3664539
X-APPLE-STRUCTURED-LOCATION;VALUE=URI;X-ADDRESS=Traditionscafé Industrie Margaretengürtel 12 Wien Wien 1050 Österreich;X-APPLE-RADIUS=500;X-TITLE=Margaretengürtel 12:geo:16.3664539,48.1838252
END:VEVENT
END:VCALENDAR