BEGIN:VCALENDAR
VERSION:2.0
PRODID:-//STRAWANZERIN - ECPv4.9.5//NONSGML v1.0//EN
CALSCALE:GREGORIAN
METHOD:PUBLISH
X-WR-CALNAME:STRAWANZERIN
X-ORIGINAL-URL:https://www.strawanzerin.at
X-WR-CALDESC:Veranstaltungen im STRAWANZERIN
BEGIN:VTIMEZONE
TZID:"Europe/Vienna"
BEGIN:DAYLIGHT
TZOFFSETFROM:+0100
TZOFFSETTO:+0200
TZNAME:CEST
DTSTART:20190331T010000
END:DAYLIGHT
BEGIN:STANDARD
TZOFFSETFROM:+0200
TZOFFSETTO:+0100
TZNAME:CET
DTSTART:20191027T010000
END:STANDARD
END:VTIMEZONE
BEGIN:VEVENT
DTSTART;TZID="Europe/Vienna":20190513T193000
DTEND;TZID="Europe/Vienna":20190513T213000
DTSTAMP:20260424T161705
CREATED:20190312T162222Z
LAST-MODIFIED:20190312T162222Z
UID:62841-1557775800-1557783000@www.strawanzerin.at
SUMMARY:Seidenblicke - Ein Bussical von und mit Roman Seeliger
DESCRIPTION:Roman will unbedingt in ein Society-Format des Fernsehens. Wie schafft er das? In seinem neuen Soloprogramm mixt Klavierkabarettist Roman Seeliger einen bunten Cocktail aus Anspielungen auf schillernde Promis\, Eigenkompositionen und Musik von Mozart (»Der Quotenfänger bin ich ja«) bis Billy Joel. \nDie Fledermaus – der erste Seidenblick? Der Klavierkabarettist gibt Antwort. Augenrollen erlaubt. Nicht nur am Operettenball. \nDie Uraufführung dieses Bussicals findet am Montag\, dem 13. Mai\, um 19:30 Uhr im Haus Hofmannsthal statt. Eine weitere Vorstellung gibt es am Mittwoch\, dem 15. Mai\, um 19:30 Uhr im Theater L.E.O. \nBild: Kabarettist\, Komponist und Pianist Roman Seeliger\, Foto/©: Roman Seeliger\, Graphik: Roman Gerhardt \n
URL:https://www.strawanzerin.at/termin/seidenblicke-ein-bussical-von-und-mit-roman-seeliger/
LOCATION:Haus Hofmannsthal\, Reisnerstraße 37\, Wien\, Wien\, 1030\, Österreich
CATEGORIES:ab 7,Theater/Kabarett,Wien
ATTACH;FMTTYPE=image/jpeg:https://www.strawanzerin.at/wp-content/uploads/2019/03/Seidenblicke_Pressefoto.jpg
GEO:48.1989376;16.3840765
X-APPLE-STRUCTURED-LOCATION;VALUE=URI;X-ADDRESS=Haus Hofmannsthal Reisnerstraße 37 Wien Wien 1030 Österreich;X-APPLE-RADIUS=500;X-TITLE=Reisnerstraße 37:geo:16.3840765,48.1989376
END:VEVENT
END:VCALENDAR