BEGIN:VCALENDAR
VERSION:2.0
PRODID:-//STRAWANZERIN - ECPv4.9.5//NONSGML v1.0//EN
CALSCALE:GREGORIAN
METHOD:PUBLISH
X-WR-CALNAME:STRAWANZERIN
X-ORIGINAL-URL:https://www.strawanzerin.at
X-WR-CALDESC:Veranstaltungen im STRAWANZERIN
BEGIN:VTIMEZONE
TZID:"Europe/Paris"
BEGIN:DAYLIGHT
TZOFFSETFROM:+0100
TZOFFSETTO:+0200
TZNAME:CEST
DTSTART:20150329T010000
END:DAYLIGHT
BEGIN:STANDARD
TZOFFSETFROM:+0200
TZOFFSETTO:+0100
TZNAME:CET
DTSTART:20151025T010000
END:STANDARD
END:VTIMEZONE
BEGIN:VEVENT
DTSTART;TZID="Europe/Paris":20150603T200000
DTEND;TZID="Europe/Paris":20150603T200000
DTSTAMP:20260422T011833
CREATED:20150422T185112Z
LAST-MODIFIED:20150429T080338Z
UID:14197-1433361600-1433361600@www.strawanzerin.at
SUMMARY:SEILER UND SPEER „HAM KUMMST TOUR 2015“
DESCRIPTION:Nach der ausverkauften Christopher Seiler Show im Planet.tt im Gasometer Wien bitten Seiler und Speer zu einer musikalischen Zusatzshow in die SiMM City.\nDas Duo „Seiler und Speer“ besteht aus dem Komiker und Schauspieler Christopher Seiler und dem Filmemacher Bernhard Speer. Charakteristisch für ihre Songs sind lebensnahe Texte\, die verschiedene Alltagssituationen karikieren.\nBegonnen hat die Zusammenarbeit vor einem Jahr\, als die Schichtwechsel-Reihe von Christopher Seiler ins Leben gerufen wurde. Hierbei agierte Bernhard Speer bereits als Regisseur. Christopher Seiler\, seines Zeichens Komiker\, spielte damals seine ersten kabarettistischen Vorstellungen und wollte diese mit Musik untermalen.\n„I hob wem braucht\, dea Gitarre spün kau und da Bernhard hod des so scheh gmocht\, dass i ma denkt hob\, mia haun sie auf a Packl\, weis eh irgendwo wuascht is.“\nAus dieser Idee entstand später die Formation „Seiler und Speer“. Ernst genommen haben die beiden Künstler ihre Musik anfangs nicht. Christopher Seiler: „I nimm grundsätzlich nie wos ernst. I nimm mi nedamoi söwa ernst\, do samma de boa Liada a wuascht!“\nDennoch – oder gerade deswegen – machten die ersten Musikstücke Spaß. Die Single „Ham Kummst“ glänzte mit österreichischem Schmäh und der ein oder andere Hörer fand sich selbst darin wieder.\nMittlerweile wurde aus dem Spaßprojekt aber musikalischer Ernst. Dies hört man auch in den Stücken und so glänzt ihr Debütalbum mit einem Mix aus bitterböser Romantik\,\nAlltagskomik und Gassenhauern. \nStartseite \n\nhttp://www.facebook.com/seilerundspeer \n
URL:https://www.strawanzerin.at/termin/seiler-und-speer-ham-kummst-tour-2015/
LOCATION:Österreich
CATEGORIES:Deutsch,Eintrittspreis,Kunst/Kultur,Theater/Kabarett,Wien
ATTACH;FMTTYPE=image/jpeg:https://www.strawanzerin.at/wp-content/uploads/2015/04/SeilerSpeerFotoquer_SIC030615.jpg
ORGANIZER;CN="Unnamed%20Organizer":MAILTO:promotion@simmcity.at
END:VEVENT
END:VCALENDAR