BEGIN:VCALENDAR
VERSION:2.0
PRODID:-//STRAWANZERIN - ECPv4.9.5//NONSGML v1.0//EN
CALSCALE:GREGORIAN
METHOD:PUBLISH
X-WR-CALNAME:STRAWANZERIN
X-ORIGINAL-URL:https://www.strawanzerin.at
X-WR-CALDESC:Veranstaltungen im STRAWANZERIN
BEGIN:VTIMEZONE
TZID:"Europe/Vienna"
BEGIN:DAYLIGHT
TZOFFSETFROM:+0100
TZOFFSETTO:+0200
TZNAME:CEST
DTSTART:20230326T010000
END:DAYLIGHT
BEGIN:STANDARD
TZOFFSETFROM:+0200
TZOFFSETTO:+0100
TZNAME:CET
DTSTART:20231029T010000
END:STANDARD
END:VTIMEZONE
BEGIN:VEVENT
DTSTART;TZID="Europe/Vienna":20230930T200000
DTEND;TZID="Europe/Vienna":20230930T220000
DTSTAMP:20260420T193355
CREATED:20230919T095455Z
LAST-MODIFIED:20230919T095455Z
UID:93833-1696104000-1696111200@www.strawanzerin.at
SUMMARY:»Seitensprung für zwei« in der Komödie am Kai
DESCRIPTION:Dieser Lachschlager vom Winter 2022 kam beim Publikum derart gut an\, dass der Ruf nach einer Wiederholung immer lauter wurde. Also bringt die Komödie am Kai den Publikumshit des Grimme-Preis-gekrönten Autoren-Duo Lars Albaum und Dietmar Jacobs erneut auf die Bühne. Dabei geht es um nichts Geringeres\, als um ein einvernehmliches außereheliches Abenteuer. Statt eines erfüllenden Schäferstündchens winken jedoch nur Chaos und Turbulenzen\, sehr zum Vergnügen des Publikums! Es spielen Lara Neversal\, Natascha Shalaby/Angela Schneider\, Anke Zisak\, Rochus Millauer\, Robert Mohor und Rafael Witak. \nVorstellungen:\n30. September bis 28. Oktober 2023\, Di bis Sa um 20 Uhr\, und Sonntag\, 8. Oktober 2023 um 16 Uhr \nInfo:\nTel. 01 533 24 34 \nBild: »Seitensprung für zwei!« sorgt für Lachen am laufenden Band in der Komödie am Kai\, Foto/© Komödie am Kai \n
URL:https://www.strawanzerin.at/termin/seitensprung-fuer-zwei-in-der-komoedie-am-kai-2/2023-09-30/
LOCATION:Komödie am Kai\, Franz-Josefs-Kai 29\, Wien\, Wien\, 1010\, Österreich
CATEGORIES:ab 7,Theater/Kabarett,Wien
ATTACH;FMTTYPE=image/jpeg:https://www.strawanzerin.at/wp-content/uploads/2023/09/245presse.jpg
GEO:48.2121522;16.3749182
X-APPLE-STRUCTURED-LOCATION;VALUE=URI;X-ADDRESS=Komödie am Kai Franz-Josefs-Kai 29 Wien Wien 1010 Österreich;X-APPLE-RADIUS=500;X-TITLE=Franz-Josefs-Kai 29:geo:16.3749182,48.2121522
END:VEVENT
END:VCALENDAR