BEGIN:VCALENDAR
VERSION:2.0
PRODID:-//STRAWANZERIN - ECPv4.9.5//NONSGML v1.0//EN
CALSCALE:GREGORIAN
METHOD:PUBLISH
X-WR-CALNAME:STRAWANZERIN
X-ORIGINAL-URL:https://www.strawanzerin.at
X-WR-CALDESC:Veranstaltungen im STRAWANZERIN
BEGIN:VTIMEZONE
TZID:"Europe/Vienna"
BEGIN:DAYLIGHT
TZOFFSETFROM:+0100
TZOFFSETTO:+0200
TZNAME:CEST
DTSTART:20250330T010000
END:DAYLIGHT
BEGIN:STANDARD
TZOFFSETFROM:+0200
TZOFFSETTO:+0100
TZNAME:CET
DTSTART:20251026T010000
END:STANDARD
END:VTIMEZONE
BEGIN:VEVENT
DTSTART;TZID="Europe/Vienna":20251016T183000
DTEND;TZID="Europe/Vienna":20251016T200000
DTSTAMP:20260420T161729
CREATED:20250814T114907Z
LAST-MODIFIED:20250814T114907Z
UID:108889-1760639400-1760644800@www.strawanzerin.at
SUMMARY:Selbstreflexionsgruppe Männ(sch)liche Gesundheit
DESCRIPTION:Von September bis November 2025 findet in Simmering eine Selbstreflexionsgruppe für Männer statt\, die sich mit ihrer körperlichen und mentalen Gesundheit\, ihren Beziehungen und ihrem Wohlbefinden beschäftigen möchten. \nDie Gruppe bietet einen geschützten Raum für offenen Austausch\, persönliche Themen und Inputs zu Bereichen wie Männergesundheit\, mentale Gesundheit\, gesunde Beziehungen und Burnout-Prävention. \nTermine (jeweils 18:30–20:00 Uhr): 04.09.\, 18.09.\, 02.10.\, 16.10.\, 30.10.\, 13.11.\nOrt: Fair-Play-Team 11\, Gottschalkgasse 11\, 1110 Wien\nKosten: Teilnahme kostenlos \nAnmeldung: office@stop-partnergewalt.at – Wir freuen uns über Ihre Teilnahme! \nOrganisiert von „StoP – Stadtteile ohne Partnergewalt“\, einem Projekt des Verein Autonome Österreichische Frauenhäuser (AÖF). \nStoP – Stadtteile ohne Partnergewalt ist ein Nachbarschaftsprojekt zur Prävention von häuslicher Gewalt an Frauen und Kindern\, das Engagement und Partizipation fördert. \n
URL:https://www.strawanzerin.at/termin/selbstreflexionsgruppe-maennschliche-gesundheit/2025-10-16/
LOCATION:Gottschalkgasse 11\, 1110 Wien\, Gottschalkgasse 11\, Wien\, 1110
CATEGORIES:Feminismus,Gesundheit,Gratis,Treffen,Wien
ATTACH;FMTTYPE=image/png:https://www.strawanzerin.at/wp-content/uploads/2025/08/23-1.png
ORGANIZER;CN="StoP%20-%20Stadtteile%20ohne%20Partnergewalt":MAILTO:office@stop-partnergewalt.at
END:VEVENT
END:VCALENDAR