BEGIN:VCALENDAR
VERSION:2.0
PRODID:-//STRAWANZERIN - ECPv4.9.5//NONSGML v1.0//EN
CALSCALE:GREGORIAN
METHOD:PUBLISH
X-WR-CALNAME:STRAWANZERIN
X-ORIGINAL-URL:https://www.strawanzerin.at
X-WR-CALDESC:Veranstaltungen im STRAWANZERIN
BEGIN:VTIMEZONE
TZID:"Europe/Vienna"
BEGIN:DAYLIGHT
TZOFFSETFROM:+0100
TZOFFSETTO:+0200
TZNAME:CEST
DTSTART:20220327T010000
END:DAYLIGHT
BEGIN:STANDARD
TZOFFSETFROM:+0200
TZOFFSETTO:+0100
TZNAME:CET
DTSTART:20221030T010000
END:STANDARD
END:VTIMEZONE
BEGIN:VEVENT
DTSTART;TZID="Europe/Vienna":20220422T193000
DTEND;TZID="Europe/Vienna":20220422T193000
DTSTAMP:20260422T122225
CREATED:20220311T100918Z
LAST-MODIFIED:20220314T130356Z
UID:83298-1650655800-1650655800@www.strawanzerin.at
SUMMARY:SELTSAM – Wichtel\, Aliens\, Insekten // Musikalische Performance
DESCRIPTION:Christian Loidl\, der bedeutende österreichische Lyriker und Performer\, war ein Meister der Enthüllung von Ungewohntem. Sein Ziel war Realitätserweiterung\, oder besser: die erweiterte Wahrnehmung gewohnter Realität\, so dass aus dieser immer neue\, frische\, durch eingeschliffene Perzeptionsmuster bislang verborgene Farben\, Formen und Erfahrungen gewonnen werden konnten.\nDieser Abend beschwört Loidl’schen Geist\, den Geist des Unbändigen: Sich den Schattenwelten\, den Rändern von Gesellschaft und Wirklichkeit – dem Seltsamen eben – unversichert auszusetzen\, um in aller Fremdheit\, „Abgefahrenheit“ und „Schräge“ zur Magie des unmittelbaren Erlebens zurückzufinden. \nAnne Bennent\, Schauspielerin\, Wien\nSainkho Namtchylak\, Sängerin\, Wien/Tuva\nOtto Lechner\, Musiker und Komponist\, Wien\nJaan Karl Klasmann\, Sänger und Performer\, Wien\nModeration: Eva Lavric\, Sprachwissenschaftlerin\, Wien/Innsbruck \nEine Veranstaltung des Vereins Farnblüte. \nFoto © Bureau Kies \n
URL:https://www.strawanzerin.at/termin/seltsam-wichtel-aliens-insekten-musikalische-performance/
LOCATION:Depot – Kunst und Diskussion\, Breite Gasse 3\, Wien\, 1070\, Österreich
CATEGORIES:Deutsch,Gratis,Kunst/Kultur,Literatur,Musik,Wien
ATTACH;FMTTYPE=image/jpeg:https://www.strawanzerin.at/wp-content/uploads/2022/03/K1A7206_c_Bureau_Kies-2-scaled.jpg
ORGANIZER;CN="Depot%20-%20Kunst%20und%20Diskussion":MAILTO:depot@depot.or.at
END:VEVENT
END:VCALENDAR