BEGIN:VCALENDAR
VERSION:2.0
PRODID:-//STRAWANZERIN - ECPv4.9.5//NONSGML v1.0//EN
CALSCALE:GREGORIAN
METHOD:PUBLISH
X-WR-CALNAME:STRAWANZERIN
X-ORIGINAL-URL:https://www.strawanzerin.at
X-WR-CALDESC:Veranstaltungen im STRAWANZERIN
BEGIN:VTIMEZONE
TZID:"Europe/Helsinki"
BEGIN:DAYLIGHT
TZOFFSETFROM:+0200
TZOFFSETTO:+0300
TZNAME:EEST
DTSTART:20170326T010000
END:DAYLIGHT
BEGIN:STANDARD
TZOFFSETFROM:+0300
TZOFFSETTO:+0200
TZNAME:EET
DTSTART:20171029T010000
END:STANDARD
END:VTIMEZONE
BEGIN:VEVENT
DTSTART;TZID="Europe/Helsinki":20170305T180000
DTEND;TZID="Europe/Helsinki":20170305T210000
DTSTAMP:20260423T160637
CREATED:20170125T102412Z
LAST-MODIFIED:20170125T102412Z
UID:38964-1488736800-1488747600@www.strawanzerin.at
SUMMARY:"Seltsame Vögel" präsentiert Alexandra Uccusic
DESCRIPTION:Dr. Valentina Piredda\, Galleria Cult\, Alghero\, Sardinien eröffnet die Werkschau in der Galerie Sandpeck Wien 8\, Florianigasse 75\, Ecke Uhlplatz am Sonntag\, 5. März 2017\, 18.00 Uhr.\nDie Ausstellung ist täglich von 14-19Uhr bis 10.3.2017 bei freiem Eintritt zu besichtigen.\n„Seltsame Vögel“ ist das jüngste Projekt der Malerin Alexandra Uccusic. Der zwischen 2015 und 2017 in einer Kombination aus Aquarell mit Tusche- und Buntstiftzeichnung auf Papier ausgeführte Zyklus widmet sich ganz der Welt der Vögel. Ihr Federkleid geht mitunter mit der farbenreichen Ornamentik des Hintergrundes einen intensiven Dialog ein; auf manchen Blättern sind die Vögel selbst ornamental umhüllt\, ihr Habitat abstrahiert angedeutet. Nie sind es Räume\, vielmehr bühnenähnliche Hintergründe\, vor denen die Tiere sich tummeln. Die Titel einzelner Arbeiten bergen Andeutungen über das Treiben der Vögel\, die hier vorzugsweise in Gruppen auftreten.\nEine erste Version der Ausstellung wurde im Juli 2016 in der Galleria Cult in Alghero (Sardinien) gezeigt. Für die Ausstellung in Wien hat Alexandra Uccusic zahlreiche weitere seltsame Vögel kreiert.\nFantastische Tierwesen haben – neben der verfremdeten menschlichen Figur – im Werk von Alexandra Uccusic einen festen Platz. Für Serien wie „Geziefer“\, „Fell und Flossen“ oder „Unter Wasser“ hat sie ganze Tierwelten erschaffen. Ihre in den vergangenen Jahren entstandenen Zyklen fügen sich mittlerweile zu einem „Kosmos fantastischer Tiere“ zusammen\, in dem man Bewohnern des Wassers\, der Lüfte und der Erde begegnet. Kuratorin: Dr. Valentina Piredda \n
URL:https://www.strawanzerin.at/termin/seltsame-voegel-praesentiert-alexandra-uccusic/2017-03-05/
LOCATION:Österreich
END:VEVENT
END:VCALENDAR