BEGIN:VCALENDAR
VERSION:2.0
PRODID:-//STRAWANZERIN - ECPv4.9.5//NONSGML v1.0//EN
CALSCALE:GREGORIAN
METHOD:PUBLISH
X-WR-CALNAME:STRAWANZERIN
X-ORIGINAL-URL:https://www.strawanzerin.at
X-WR-CALDESC:Veranstaltungen im STRAWANZERIN
BEGIN:VTIMEZONE
TZID:"Europe/Vienna"
BEGIN:DAYLIGHT
TZOFFSETFROM:+0100
TZOFFSETTO:+0200
TZNAME:CEST
DTSTART:20220327T010000
END:DAYLIGHT
BEGIN:STANDARD
TZOFFSETFROM:+0200
TZOFFSETTO:+0100
TZNAME:CET
DTSTART:20221030T010000
END:STANDARD
END:VTIMEZONE
BEGIN:VEVENT
DTSTART;TZID="Europe/Vienna":20220903T173000
DTEND;TZID="Europe/Vienna":20220903T183000
DTSTAMP:20260420T191626
CREATED:20220818T073508Z
LAST-MODIFIED:20220831T075205Z
UID:86106-1662226200-1662229800@www.strawanzerin.at
SUMMARY:Serious Fun. Architektur & Spiele - Kuratorinnenführung
DESCRIPTION:Welche architektonischen Erzählungen stecken in Puppenhäusern\, nach welchen Leitlinien wachsen Städte in Computerspielen und was für Gebäude bieten Ego-Shootern Schutz vor Angreifern? Die Ausstellung zeigt und hinterfragt Architekturspiele. Sie lädt zum Staunen\, Spielen und Nachdenken ein. \nAnmeldung erforderlich: anmeldung@azw.at\nDie Führung findet entlang der aktuellen Covid-19 Maßnahmen statt.\nFührung mit Kuratorin Mélanie van der Hoorn. \n© Luisterhuis\, Machiel Spaan & Rozalie Hirs\, 2017\, Foto: Allard van der Hoek \n
URL:https://www.strawanzerin.at/termin/serious-fun-architektur-spiele-kuratorinnenfuehrung/
LOCATION:Architekturzentrum Wien\, Museumsplatz 1\, 1070 Wien\, 1070\, Österreich
CATEGORIES:Ausstellung
ATTACH;FMTTYPE=image/jpeg:https://www.strawanzerin.at/wp-content/uploads/2022/08/klein0102_LuisterHuis.jpg
GEO:48.2026499;16.3591421
X-APPLE-STRUCTURED-LOCATION;VALUE=URI;X-ADDRESS=Architekturzentrum Wien Museumsplatz 1 1070 Wien 1070 Österreich;X-APPLE-RADIUS=500;X-TITLE=Museumsplatz 1:geo:16.3591421,48.2026499
END:VEVENT
END:VCALENDAR