BEGIN:VCALENDAR
VERSION:2.0
PRODID:-//STRAWANZERIN - ECPv4.9.5//NONSGML v1.0//EN
CALSCALE:GREGORIAN
METHOD:PUBLISH
X-WR-CALNAME:STRAWANZERIN
X-ORIGINAL-URL:https://www.strawanzerin.at
X-WR-CALDESC:Veranstaltungen im STRAWANZERIN
BEGIN:VTIMEZONE
TZID:"Europe/Helsinki"
BEGIN:DAYLIGHT
TZOFFSETFROM:+0200
TZOFFSETTO:+0300
TZNAME:EEST
DTSTART:20150329T010000
END:DAYLIGHT
BEGIN:STANDARD
TZOFFSETFROM:+0300
TZOFFSETTO:+0200
TZNAME:EET
DTSTART:20151025T010000
END:STANDARD
END:VTIMEZONE
BEGIN:VEVENT
DTSTART;TZID="Europe/Helsinki":20150925T200000
DTEND;TZID="Europe/Helsinki":20150925T230000
DTSTAMP:20260421T142604
CREATED:20150917T151705Z
LAST-MODIFIED:20150922T140408Z
UID:19811-1443211200-1443222000@www.strawanzerin.at
SUMMARY:SexmitJesus - Nonnenlyrik mit Handpuppe
DESCRIPTION:Ein regelrechtes mystisches Fieber erfasst im Spätmittelalter süddeutsche Frauenklöster und führt zu einem wahren Sturm an recht handfester SexmitJesus-Lyrik.\nEin Cross-over verschränkt erotische Dominikanerinnenmystik des ausgehenden Mittelalters mit „säkularen Gebeten“ der Lyrikerin Carina Nekolny. Eine Schwesternlitanei als Duett des erotischen Begehrens.\nCarina Nekolny im Gespräch mit der Nonnenpuppe Waldburga von Freising.\nWitzig\, schräg\, skurril\, hintergründig! \nReservierung: das.dorf@gmx.at oder Tel. 01-208 26 50 \n
URL:https://www.strawanzerin.at/termin/sexmitjesus-nonnenlyrik-mit-handpuppe/2015-09-25/
LOCATION:Das Dorf\, Viaduktgasse 2/1\, Wien\, 1030\, Österreich
CATEGORIES:Deutsch,Feminismus,Gratis,Literatur,Wien
ATTACH;FMTTYPE=image/jpeg:https://www.strawanzerin.at/wp-content/uploads/2015/09/Waldburga-mit-Hintergrund-web.jpg
GEO:48.2081696;16.3877767
X-APPLE-STRUCTURED-LOCATION;VALUE=URI;X-ADDRESS=Das Dorf Viaduktgasse 2/1 Wien 1030 Österreich;X-APPLE-RADIUS=500;X-TITLE=Viaduktgasse 2/1:geo:16.3877767,48.2081696
END:VEVENT
END:VCALENDAR