BEGIN:VCALENDAR
VERSION:2.0
PRODID:-//STRAWANZERIN - ECPv4.9.5//NONSGML v1.0//EN
CALSCALE:GREGORIAN
METHOD:PUBLISH
X-WR-CALNAME:STRAWANZERIN
X-ORIGINAL-URL:https://www.strawanzerin.at
X-WR-CALDESC:Veranstaltungen im STRAWANZERIN
BEGIN:VTIMEZONE
TZID:"Europe/Vienna"
BEGIN:DAYLIGHT
TZOFFSETFROM:+0100
TZOFFSETTO:+0200
TZNAME:CEST
DTSTART:20220327T010000
END:DAYLIGHT
BEGIN:STANDARD
TZOFFSETFROM:+0200
TZOFFSETTO:+0100
TZNAME:CET
DTSTART:20221030T010000
END:STANDARD
END:VTIMEZONE
BEGIN:VEVENT
DTSTART;TZID="Europe/Vienna":20220509T200000
DTEND;TZID="Europe/Vienna":20220509T220000
DTSTAMP:20260422T140500
CREATED:20220401T064735Z
LAST-MODIFIED:20220406T133716Z
UID:83775-1652126400-1652133600@www.strawanzerin.at
SUMMARY:»Sextett« geht im Gloria Theater an Bord
DESCRIPTION:Leinen los! Von 7. Mai bis 26. Juni 2022 stechen Christoph Fälbl\, Dorian Steidl und Andreas Steppan in See\, dass es im Zwerchfell kracht! An Deck befinden sich auch drei Damen. Und alle in dieser Komödie verfolgen ihre eigenen Pläne: Der Bootsbesitzer hofft auf ein Liebesabenteuer\, sieht sich jedoch mit der plötzlichen Anwesenheit seiner Ehefrau konfrontiert. Der Andere hat gleich seine junge Geliebte mitgebracht und die Gemahlin zu Hause gelassen. Schließlich ist da noch der Angestellte\, dessen Frau von einem Seitensprung träumt. Also dann: Schiff Ahoi! \nVorstellungen:\n7. Mai bis 26. Juni 2022  (Premiere: 9. Mai 2022 um 20 Uhr) \nInfo & Beginnzeiten:\nTel.: 01 278 54 04  \nBild: Andreas Steppan\, Dorian Steidl und Christoph Fälbl in »Sextett«\, Foto/© Gloria Theater \n
URL:https://www.strawanzerin.at/termin/sextett-geht-im-gloria-theater-an-bord/
LOCATION:Gloria Theater\, Pragerstraße 9\, Wien\, Wien\, 1210\, Österreich
CATEGORIES:ab 7,Theater/Kabarett,Wien
ATTACH;FMTTYPE=image/jpeg:https://www.strawanzerin.at/wp-content/uploads/2022/04/DSC00172-Kopie.jpg
GEO:48.2592924;16.3959989
X-APPLE-STRUCTURED-LOCATION;VALUE=URI;X-ADDRESS=Gloria Theater Pragerstraße 9 Wien Wien 1210 Österreich;X-APPLE-RADIUS=500;X-TITLE=Pragerstraße 9:geo:16.3959989,48.2592924
END:VEVENT
END:VCALENDAR