BEGIN:VCALENDAR
VERSION:2.0
PRODID:-//STRAWANZERIN - ECPv4.9.5//NONSGML v1.0//EN
CALSCALE:GREGORIAN
METHOD:PUBLISH
X-WR-CALNAME:STRAWANZERIN
X-ORIGINAL-URL:https://www.strawanzerin.at
X-WR-CALDESC:Veranstaltungen im STRAWANZERIN
BEGIN:VTIMEZONE
TZID:"Europe/Vienna"
BEGIN:DAYLIGHT
TZOFFSETFROM:+0100
TZOFFSETTO:+0200
TZNAME:CEST
DTSTART:20210328T010000
END:DAYLIGHT
BEGIN:STANDARD
TZOFFSETFROM:+0200
TZOFFSETTO:+0100
TZNAME:CET
DTSTART:20211031T010000
END:STANDARD
END:VTIMEZONE
BEGIN:VEVENT
DTSTART;TZID="Europe/Vienna":20211216T193000
DTEND;TZID="Europe/Vienna":20211216T210000
DTSTAMP:20260422T022038
CREATED:20211215T172559Z
LAST-MODIFIED:20211215T172559Z
UID:82158-1639683000-1639688400@www.strawanzerin.at
SUMMARY:Sherlock Holmes
DESCRIPTION:– Uraufführung \nText: Tex Rubinowitz\nInszenierung: Ursula Leitner\nBühne & Kostüm: Daniel Sommergruber\nDramaturgie: Hannah Lioba Egenolf\nRegieassistenz: Alina Hainig\nBühnen & Kostümassistenz: Tanja Peinsipp\nMit: Annette Isabella Holzmann\, Wiltrud Schreiner\, Wojo van Brouwer\n„Fangen wir an? Wie fangen wir an?“ fragt sich ein Schriftsteller in Tex Rubinowitz‘ Stück – Zwei Schauspielerinnen pflichten ihm bei – wie anfangen? Die Kunst\, das Leben\, die Liebe – ein Theatertext? In einem wilden Parforceritt über seelische Abgründe streifen die drei Hauptdarsteller*innen in ihren sprachlichen Texteskapaden Ludwig Wittgenstein\, Charlie Sheen und Kim Jong Un und landen schließlich bei Sherlock Holmes. Oder etwa nicht? \nDer erste abendfüllende Theatertext des Autors\, Cartoonisten und Bachmannpreisträger Tex Rubinowitz ist ein Auftragswerk des WERK X und erzählt mit Verve über ein Künstler*innendasein zwischen Zwängen\, Nöten\, Ängsten und meist großer Lust. \n
URL:https://www.strawanzerin.at/termin/sherlock-holmes/2021-12-16/
LOCATION:WERK X\, Oswaldgasse 35A\, Wien\, Wien\, 1120\, Österreich
CATEGORIES:Theater/Kabarett
ATTACH;FMTTYPE=image/jpeg:https://www.strawanzerin.at/wp-content/uploads/2021/12/Sherlock-Holmes-1341533-Alex-Gotter.jpg
ORGANIZER;CN="WERK%20X":MAILTO:buero@werk-x.at
GEO:48.1662859;16.3245824
X-APPLE-STRUCTURED-LOCATION;VALUE=URI;X-ADDRESS=WERK X Oswaldgasse 35A Wien Wien 1120 Österreich;X-APPLE-RADIUS=500;X-TITLE=Oswaldgasse 35A:geo:16.3245824,48.1662859
END:VEVENT
END:VCALENDAR