BEGIN:VCALENDAR
VERSION:2.0
PRODID:-//STRAWANZERIN - ECPv4.9.5//NONSGML v1.0//EN
CALSCALE:GREGORIAN
METHOD:PUBLISH
X-WR-CALNAME:STRAWANZERIN
X-ORIGINAL-URL:https://www.strawanzerin.at
X-WR-CALDESC:Veranstaltungen im STRAWANZERIN
BEGIN:VTIMEZONE
TZID:"Europe/Vienna"
BEGIN:DAYLIGHT
TZOFFSETFROM:+0100
TZOFFSETTO:+0200
TZNAME:CEST
DTSTART:20180325T010000
END:DAYLIGHT
BEGIN:STANDARD
TZOFFSETFROM:+0200
TZOFFSETTO:+0100
TZNAME:CET
DTSTART:20181028T010000
END:STANDARD
END:VTIMEZONE
BEGIN:VEVENT
DTSTART;TZID="Europe/Vienna":20180414T120000
DTEND;TZID="Europe/Vienna":20180414T190000
DTSTAMP:20260422T133705
CREATED:20180316T202929Z
LAST-MODIFIED:20180419T093117Z
UID:53579-1523707200-1523732400@www.strawanzerin.at
SUMMARY:Simon Goritschnig: Making Sense of Everything
DESCRIPTION:“Im Werk Simon Goritschnigs findet man\, und das meist schon auf den ersten Blick\, das\, was man “Organisch” nennen würde – das eigenständig Gewachsene\, das Selbstorganisierte. Da wuchert Wurzelwerk und dort entschälen sich Gesteinsschichten — da dividieren sich Knochen und Eiweißverbindungen auseinander.\n“Alles ist verbunden” — ein Motto\, unter welchem er Ähnlichkeiten und Anknüpfungspunkte aller Organismen\, von Naturprozessen\, von Denkstrukturen\, Ereignissen und Kompositionsprinzipien im weitesten Sinne untersucht. Dem allen zugrunde liegt das Prinzip der Isomorphie: Das aus der Mathematik entlehnte Prinzip der Deckungsgleichheit\, der Gleichgestaltigkeit\, der Ähnlichkeit in den unerwartetsten Regionen des Kosmos.” (Raphaela Edelbauer\, Schriftstellerin) \n
URL:https://www.strawanzerin.at/termin/simon-goritschnig-making-sense-of-everything/2018-04-14/
LOCATION:Kunstfabrik Groß Siegharts\, Karlsteiner Straße 4\, Groß-Siegharts\, Niederösterreich\, 3812\, Österreich
CATEGORIES:Ausstellung
ATTACH;FMTTYPE=image/jpeg:https://www.strawanzerin.at/wp-content/uploads/2018/03/ZENTRUM_2016_Plakat_final_s.jpg
ORGANIZER;CN="Galerien%20Thayaland":MAILTO:franzpart9@gmail.com
GEO:48.791901;15.4039756
X-APPLE-STRUCTURED-LOCATION;VALUE=URI;X-ADDRESS=Kunstfabrik Groß Siegharts Karlsteiner Straße 4 Groß-Siegharts Niederösterreich 3812 Österreich;X-APPLE-RADIUS=500;X-TITLE=Karlsteiner Straße 4:geo:15.4039756,48.791901
END:VEVENT
END:VCALENDAR