BEGIN:VCALENDAR
VERSION:2.0
PRODID:-//STRAWANZERIN - ECPv4.9.5//NONSGML v1.0//EN
CALSCALE:GREGORIAN
METHOD:PUBLISH
X-WR-CALNAME:STRAWANZERIN
X-ORIGINAL-URL:https://www.strawanzerin.at
X-WR-CALDESC:Veranstaltungen im STRAWANZERIN
BEGIN:VTIMEZONE
TZID:"Europe/Vienna"
BEGIN:DAYLIGHT
TZOFFSETFROM:+0100
TZOFFSETTO:+0200
TZNAME:CEST
DTSTART:20190331T010000
END:DAYLIGHT
BEGIN:STANDARD
TZOFFSETFROM:+0200
TZOFFSETTO:+0100
TZNAME:CET
DTSTART:20191027T010000
END:STANDARD
END:VTIMEZONE
BEGIN:VEVENT
DTSTART;TZID="Europe/Vienna":20190629T190000
DTEND;TZID="Europe/Vienna":20190804T190000
DTSTAMP:20260422T041046
CREATED:20190606T143519Z
LAST-MODIFIED:20190711T161929Z
UID:65688-1561834800-1564945200@www.strawanzerin.at
SUMMARY:Simone Einfalt: Another Strange Planet
DESCRIPTION:Another Strange Planet.\nIch such‘ mir ein neues Zuhause \nEröffnung: 29. Juni 2019\, 19 Uhr\nAusstellung: 30. Juni bis 4. August 2019\nÖffnungszeiten: Mi bis So\, 13 bis 18 Uhr \nSimone Einfalt über Beton: “Ein fabelhaftes Material in Bezug auf Urbanität und Benutzerfreundlichkeit. Naja\, mehr oder weniger. Eigentlich können alle möglichen Versuche damit ins Verderben führen.“\nSimone Einfalt über Keramik: „Der bissige Charakter von Ton lässt mich erzittern und entzückt mich zugleich. Ich habe begonnen\, anspruchsvolle Objekte damit zu erschaffen.“\nSimone Einfalt über Video-Objekte: „Projektionen auf dreidimensionale Objekte. Das Erzählen von Geschichten. Die Darstellung fragmentierter Realitäten. \n
URL:https://www.strawanzerin.at/termin/simone-einfalt-another-strange-planet/
LOCATION:Galerie Lindenhof\, Oberndorf 7\, Raabs an der Thaya\, Niederösterreich\, 3820\, Österreich
CATEGORIES:Ausstellung
ATTACH;FMTTYPE=image/jpeg:https://www.strawanzerin.at/wp-content/uploads/2019/06/SimoneEinfalt_Plakat.jpg
ORGANIZER;CN="Galerien%20Thayaland":MAILTO:franzpart9@gmail.com
GEO:48.8478001;15.4861098
X-APPLE-STRUCTURED-LOCATION;VALUE=URI;X-ADDRESS=Galerie Lindenhof Oberndorf 7 Raabs an der Thaya Niederösterreich 3820 Österreich;X-APPLE-RADIUS=500;X-TITLE=Oberndorf 7:geo:15.4861098,48.8478001
END:VEVENT
END:VCALENDAR