BEGIN:VCALENDAR
VERSION:2.0
PRODID:-//STRAWANZERIN - ECPv4.9.5//NONSGML v1.0//EN
CALSCALE:GREGORIAN
METHOD:PUBLISH
X-WR-CALNAME:STRAWANZERIN
X-ORIGINAL-URL:https://www.strawanzerin.at
X-WR-CALDESC:Veranstaltungen im STRAWANZERIN
BEGIN:VTIMEZONE
TZID:"Europe/Helsinki"
BEGIN:DAYLIGHT
TZOFFSETFROM:+0200
TZOFFSETTO:+0300
TZNAME:EEST
DTSTART:20150329T010000
END:DAYLIGHT
BEGIN:STANDARD
TZOFFSETFROM:+0300
TZOFFSETTO:+0200
TZNAME:EET
DTSTART:20151025T010000
END:STANDARD
END:VTIMEZONE
BEGIN:VEVENT
DTSTART;TZID="Europe/Helsinki":20151206T150000
DTEND;TZID="Europe/Helsinki":20151206T170000
DTSTAMP:20260423T212101
CREATED:20151125T132120Z
LAST-MODIFIED:20151125T132120Z
UID:21961-1449414000-1449421200@www.strawanzerin.at
SUMMARY:Singen im Advent bei „STERNE AM UHLPLATZ“
DESCRIPTION:Für Jung und Alt mit Nadja Offinger in der Galerie Sandpeck Wien 8\, Florianigasse 75 am Sonntag\, 6.12.2015 zwischen 15-17Uhr und Sonntag\, 13.12.2015 zwischen 15-17Uhr.In vorweihnachtlicher Atmosphäre werden Jung und Alt\, aus der von ihr liebevoll gestalteten Liedermappe\, der Jahreszeit entsprechende Lieder singen. Keine musikalischen Voraussetzungen notwendig! Nadja Offinger:\nklassische Gitarre: Mozarteum Salzburg Stimme und Gesang: Ausbildung München ebenso div. Fortbildungen Internationale Unterrichts –und Konzerterfahrung. Eigene Lieder und Vertonungen. Mitbegründung eines Projekts zur Förderung des Singens mit Kindern. Über Ihre Spende freuen wir uns! \n
URL:https://www.strawanzerin.at/termin/singen-im-advent-bei-sterne-am-uhlplatz/2015-12-06/
LOCATION:Österreich
CATEGORIES:Deutsch,freie Spende,Kunst/Kultur,Musik,Wien
ATTACH;FMTTYPE=image/jpeg:https://www.strawanzerin.at/wp-content/uploads/2015/11/Nadja_Adventsingen_Presse1.jpg
END:VEVENT
END:VCALENDAR