BEGIN:VCALENDAR
VERSION:2.0
PRODID:-//STRAWANZERIN - ECPv4.9.5//NONSGML v1.0//EN
CALSCALE:GREGORIAN
METHOD:PUBLISH
X-WR-CALNAME:STRAWANZERIN
X-ORIGINAL-URL:https://www.strawanzerin.at
X-WR-CALDESC:Veranstaltungen im STRAWANZERIN
BEGIN:VTIMEZONE
TZID:"Europe/Helsinki"
BEGIN:DAYLIGHT
TZOFFSETFROM:+0200
TZOFFSETTO:+0300
TZNAME:EEST
DTSTART:20170326T010000
END:DAYLIGHT
BEGIN:STANDARD
TZOFFSETFROM:+0300
TZOFFSETTO:+0200
TZNAME:EET
DTSTART:20171029T010000
END:STANDARD
END:VTIMEZONE
BEGIN:VEVENT
DTSTART;TZID="Europe/Helsinki":20170221T210000
DTEND;TZID="Europe/Helsinki":20170221T233000
DTSTAMP:20260422T074039
CREATED:20170210T092246Z
LAST-MODIFIED:20170210T092246Z
UID:39638-1487710800-1487719800@www.strawanzerin.at
SUMMARY:Sinoptik
DESCRIPTION:SINOPTIK – Stoner-Rock aus der Ukraine; die Gewinner des „Global Battle Of Bands 2016“\nSupport:\nEMPTY EYE: Alternative Rock aus Wien \n
URL:https://www.strawanzerin.at/termin/sinoptik/
CATEGORIES:bis 7,Musik,Wien
ATTACH;FMTTYPE=image/jpeg:https://www.strawanzerin.at/wp-content/uploads/2017/02/sinoptik.jpg
ORGANIZER;CN="Kurt%20Kostron":MAILTO:k.kostron@stuwerbuch.at
END:VEVENT
END:VCALENDAR