BEGIN:VCALENDAR
VERSION:2.0
PRODID:-//STRAWANZERIN - ECPv4.9.5//NONSGML v1.0//EN
CALSCALE:GREGORIAN
METHOD:PUBLISH
X-WR-CALNAME:STRAWANZERIN
X-ORIGINAL-URL:https://www.strawanzerin.at
X-WR-CALDESC:Veranstaltungen im STRAWANZERIN
BEGIN:VTIMEZONE
TZID:"Europe/Vienna"
BEGIN:DAYLIGHT
TZOFFSETFROM:+0100
TZOFFSETTO:+0200
TZNAME:CEST
DTSTART:20240331T010000
END:DAYLIGHT
BEGIN:STANDARD
TZOFFSETFROM:+0200
TZOFFSETTO:+0100
TZNAME:CET
DTSTART:20241027T010000
END:STANDARD
END:VTIMEZONE
BEGIN:VEVENT
DTSTART;TZID="Europe/Vienna":20240304T200000
DTEND;TZID="Europe/Vienna":20240304T213000
DTSTAMP:20260421T223732
CREATED:20240122T103622Z
LAST-MODIFIED:20240122T103622Z
UID:96271-1709582400-1709587800@www.strawanzerin.at
SUMMARY:SISI RENNT
DESCRIPTION:RAHEL \nneunmal live auf der Bühne des ARTist`s \nin der Uraufführung \nSISI RENNT\nWir freuen uns\, unserem Publikum eine der wichtigsten Nachwuchsstimme der österreichischen Popszene zu präsentieren. \nRAHEL konnte für dieses Projekt gewonnen werden. Rahel Kislinger und Raphael Krenn\, die als RAHEL mit ihren Liedern oft wochenlang die oberen Plätze der heimischen Hitparade besetzen und von FM4 vor kurzem für den Amadeus Austrian Music Award nominiert wurden\, verleihen Sisis Gedichten einen wundervollen Sound und performen sie live auf der Bühne des ARTist`s\, während Sonja Kreibich als Sisi um ein selbstbestimmtes Leben am Wiener Hof kämpft und zu einer ihrer legendären Nachtwanderungen aufbricht.\nKaiserin Elisabeths Gedichte sind der Spielball für einen unkonventionellen\, zeitgenössischen Theaterabend\, in dem Sisi als heutige Frau aus feministischer Sicht betrachtet wird.\nAline-Sarah Kunisch wirft in ihrem neuen Stück einen kritischen Blick auf die Welt der sozialen Medien und Verschwörungstheorien und zeigt\, wie leicht die Wahrheit in einem Ozean aus Lügen verloren gehen kann. \n
URL:https://www.strawanzerin.at/termin/sisi-rennt/
LOCATION:ARTist`s\, Schützgasse 16\, Graz\, Steiermark\, 8020\, Österreich
CATEGORIES:Musik
ATTACH;FMTTYPE=image/jpeg:https://www.strawanzerin.at/wp-content/uploads/2024/01/020_Rahel_©_Liebentritt1.jpg
ORGANIZER;CN="Theater%20im%20ARTist%60s%20-%20%20Kaendace":MAILTO:info@theaterkaendace.at
END:VEVENT
END:VCALENDAR