BEGIN:VCALENDAR
VERSION:2.0
PRODID:-//STRAWANZERIN - ECPv4.9.5//NONSGML v1.0//EN
CALSCALE:GREGORIAN
METHOD:PUBLISH
X-WR-CALNAME:STRAWANZERIN
X-ORIGINAL-URL:https://www.strawanzerin.at
X-WR-CALDESC:Veranstaltungen im STRAWANZERIN
BEGIN:VTIMEZONE
TZID:"Europe/Vienna"
BEGIN:DAYLIGHT
TZOFFSETFROM:+0100
TZOFFSETTO:+0200
TZNAME:CEST
DTSTART:20220327T010000
END:DAYLIGHT
BEGIN:STANDARD
TZOFFSETFROM:+0200
TZOFFSETTO:+0100
TZNAME:CET
DTSTART:20221030T010000
END:STANDARD
END:VTIMEZONE
BEGIN:VEVENT
DTSTART;TZID="Europe/Vienna":20220609T180000
DTEND;TZID="Europe/Vienna":20220609T220000
DTSTAMP:20260421T101918
CREATED:20220603T114210Z
LAST-MODIFIED:20220610T104737Z
UID:85327-1654797600-1654812000@www.strawanzerin.at
SUMMARY:Sixth Tone
DESCRIPTION:Ausstellung mit Fatih Aydoğdu\, Thalia Hoffman\, Karam Natour und Anahita Razmi\nkuratiert von Darya Aloufy und Davood Madadpoor \nEröffnung mit Künstler*innengespräch:\nDonnerstag\, 09/06/2022\, 18-22 Uhr\nDie Kurator*innen und Künstler*innen sind anwesend. \nAusstellungsdauer: 10/06 – 30/07/2022 \nDie Ausstellung findet im Rahmen einer Kooperation mit SUMAC SPACE statt.\nSixth Tone ist ein Experiment\, das den Prozess der Ausstellungsproduktion in Form des Dialogs und des Peer-to-Peer Austauschs erprobt.\nÜber einen Zeitraum von sechs Monaten trafen sich vier Künstler*innen und zwei Kurator*innen regelmäßig\, um Identität\, Zugehörigkeit und das Konzept von „Heimat“ zu diskutieren und hinterfragen. Die Künstler*innen unterschiedlicher kultureller Prägung und Nationalitäten reflektieren ihre hybriden Identitäten\, die in fließender Form unterschiedliche\, verinnerlichte kulturelle Perspektiven verarbeiten und verhandeln. Das bedeutet\, dass sich eine einzelne Person gleichermaßen zwei oder mehreren kulturellen Räumen zugehörig fühlen kann. Diese hybriden Identitäten werden als inter-\, trans- und multikulturell betrachtet; ihre Träger*innen sind bi-nativ\, bi-national oder tri-national. Sie sitzen entweder zwischen den Stühlen oder auf einem dritten Stuhl. Manchmal erleben sie keine Vielfalt\, sondern eher einen Widerspruch\, wenn die Kulturen\, die ihre Identität prägen\, nicht zusammenpassen. Die Treffen waren ein gemeinsames Ausprobieren von Intimität und Verletzlichkeit in einem sicheren Raum\, indem Debatten\, Meinungsverschiedenheiten und gegenseitiges Zuhören zugelassen wurden.\nBei philomena+ präsentiert die Gruppe einzelne Werke sowie Einblicke in ihren Dialog durch Antworten und Reflexionen über die Kunstwerke der jeweils anderen. \n
URL:https://www.strawanzerin.at/termin/sixth-tone/
LOCATION:philomena+ Kunst- und Architekturplattform\, Heinestraße 40\, 1020 Wien\, Wien\, 1020\, Österreich
CATEGORIES:Ausstellung,Gratis,Kunst/Kultur,Wien
ATTACH;FMTTYPE=image/jpeg:https://www.strawanzerin.at/wp-content/uploads/2022/06/Gauva_Ankuendigungsbild.jpg
ORGANIZER;CN="philomena%2B%20Kunst-%20und%20Architekturplattfrom":MAILTO:info@philomena.plus
GEO:48.2183087;16.3894548
X-APPLE-STRUCTURED-LOCATION;VALUE=URI;X-ADDRESS=philomena+ Kunst- und Architekturplattform Heinestraße 40 1020 Wien Wien 1020 Österreich;X-APPLE-RADIUS=500;X-TITLE=Heinestraße 40:geo:16.3894548,48.2183087
END:VEVENT
END:VCALENDAR