BEGIN:VCALENDAR
VERSION:2.0
PRODID:-//STRAWANZERIN - ECPv4.9.5//NONSGML v1.0//EN
CALSCALE:GREGORIAN
METHOD:PUBLISH
X-WR-CALNAME:STRAWANZERIN
X-ORIGINAL-URL:https://www.strawanzerin.at
X-WR-CALDESC:Veranstaltungen im STRAWANZERIN
BEGIN:VTIMEZONE
TZID:"Europe/Vienna"
BEGIN:DAYLIGHT
TZOFFSETFROM:+0100
TZOFFSETTO:+0200
TZNAME:CEST
DTSTART:20220327T010000
END:DAYLIGHT
BEGIN:STANDARD
TZOFFSETFROM:+0200
TZOFFSETTO:+0100
TZNAME:CET
DTSTART:20221030T010000
END:STANDARD
END:VTIMEZONE
BEGIN:VEVENT
DTSTART;TZID="Europe/Vienna":20220511T180000
DTEND;TZID="Europe/Vienna":20220511T180000
DTSTAMP:20260422T103510
CREATED:20220408T174915Z
LAST-MODIFIED:20220408T182617Z
UID:84067-1652292000-1652292000@www.strawanzerin.at
SUMMARY:«So a G'schicht» – Anthologie-Präsentation
DESCRIPTION:„SO A G’SCHICHT!“\, das ist der Titel neuer Anthologie\, die bei Anima incognita Edition herausgegeben ist. Anthologie Präsentation findet am 11. Mai 2022 um 18:00 Uhr statt – in der Vinothek Miller-Aichholz\, Favoritenstraße 22\,1040 Wien. \n
URL:https://www.strawanzerin.at/termin/so-a-gschicht-anthologie-praesentation/
LOCATION:Vinothek Miller-Aichholz\, Favoritenstraße 22\, Wien\, Wien\, 1040\, Österreich
CATEGORIES:Kategorie,Literatur,Region/Bundesland,Wien
ATTACH;FMTTYPE=image/jpeg:https://www.strawanzerin.at/wp-content/uploads/2022/04/So-a-Gschicht.jpg
ORGANIZER;CN="Kunstverein%20Anima%20incognita":MAILTO:diana.wiedra@chello.at
GEO:48.193654;16.3701987
X-APPLE-STRUCTURED-LOCATION;VALUE=URI;X-ADDRESS=Vinothek Miller-Aichholz Favoritenstraße 22 Wien Wien 1040 Österreich;X-APPLE-RADIUS=500;X-TITLE=Favoritenstraße 22:geo:16.3701987,48.193654
END:VEVENT
END:VCALENDAR