BEGIN:VCALENDAR
VERSION:2.0
PRODID:-//STRAWANZERIN - ECPv4.9.5//NONSGML v1.0//EN
CALSCALE:GREGORIAN
METHOD:PUBLISH
X-WR-CALNAME:STRAWANZERIN
X-ORIGINAL-URL:https://www.strawanzerin.at
X-WR-CALDESC:Veranstaltungen im STRAWANZERIN
BEGIN:VTIMEZONE
TZID:"Europe/Helsinki"
BEGIN:DAYLIGHT
TZOFFSETFROM:+0200
TZOFFSETTO:+0300
TZNAME:EEST
DTSTART:20140330T010000
END:DAYLIGHT
BEGIN:STANDARD
TZOFFSETFROM:+0300
TZOFFSETTO:+0200
TZNAME:EET
DTSTART:20141026T010000
END:STANDARD
END:VTIMEZONE
BEGIN:VEVENT
DTSTART;TZID="Europe/Helsinki":20141114T143000
DTEND;TZID="Europe/Helsinki":20141114T153000
DTSTAMP:20260423T141349
CREATED:20141028T152348Z
LAST-MODIFIED:20141029T144009Z
UID:8344-1415975400-1415979000@www.strawanzerin.at
SUMMARY:Sockenmonster
DESCRIPTION:Alte oder vereinzelte Socken haben wir fast alle daheim herumliegen. Bringt sie mit und verwandelt sie in phantastische Sockenmonster!\nWorkshopleitung: Esther Weinberger \nKosten: €5/für Mitglieder (eule\, Reko oder Geschwisterkinder) €3 \nKontakt: esther@klamottenkunst.at oder 0650 974 9959 \n
URL:https://www.strawanzerin.at/termin/sockenmonster/
LOCATION:Recycling Kosmos Zentrale\, Ottakringer Straße 63\, Wien\, Wien\, 1160\, Österreich
CATEGORIES:bis 7,Deutsch,Sonstiges,Wien,Workshop
ATTACH;FMTTYPE=image/jpeg:https://www.strawanzerin.at/wp-content/uploads/2014/10/Sockenmonster.jpeg
ORGANIZER;CN="Recycling%20Kosmos":MAILTO:workshops@recyclingkosmos.at
GEO:48.2137812;16.3298013
X-APPLE-STRUCTURED-LOCATION;VALUE=URI;X-ADDRESS=Recycling Kosmos Zentrale Ottakringer Straße 63 Wien Wien 1160 Österreich;X-APPLE-RADIUS=500;X-TITLE=Ottakringer Straße 63:geo:16.3298013,48.2137812
END:VEVENT
END:VCALENDAR