BEGIN:VCALENDAR
VERSION:2.0
PRODID:-//STRAWANZERIN - ECPv4.9.5//NONSGML v1.0//EN
CALSCALE:GREGORIAN
METHOD:PUBLISH
X-WR-CALNAME:STRAWANZERIN
X-ORIGINAL-URL:https://www.strawanzerin.at
X-WR-CALDESC:Veranstaltungen im STRAWANZERIN
BEGIN:VTIMEZONE
TZID:"Europe/Vienna"
BEGIN:DAYLIGHT
TZOFFSETFROM:+0100
TZOFFSETTO:+0200
TZNAME:CEST
DTSTART:20230326T010000
END:DAYLIGHT
BEGIN:STANDARD
TZOFFSETFROM:+0200
TZOFFSETTO:+0100
TZNAME:CET
DTSTART:20231029T010000
END:STANDARD
END:VTIMEZONE
BEGIN:VEVENT
DTSTART;TZID="Europe/Vienna":20230506T200000
DTEND;TZID="Europe/Vienna":20230506T210000
DTSTAMP:20260421T173530
CREATED:20230510T105100Z
LAST-MODIFIED:20230510T105100Z
UID:91194-1683403200-1683406800@www.strawanzerin.at
SUMMARY:Sööt/Zeyringer – Other Mother
DESCRIPTION:Eine Mutter und eine Nicht-Mutter erforschen in „Other Mother“ die Idee von Mutterschaft. Sie richten ihren Blick auf „andere Mütter“\, Frauen\, die von den normierten Pfaden der Mutterschaft abweichen\, weil sie als zu jung\, zu alt\, zu sexy\, zu selbstlos\, zu abenteuerlustig\, zu unabhängig oder zu schwierig gelten. Sööt/Zeyringer beschäftigen sich dafür mit historischen Ereignissen und alltäglichen Situationen und decken bislang verborgene Wirklichkeiten von Otherness in Mutterschaft auf. Einige der ungebührlichen Mütter waren Opfer ihrer eigenen Lebensumstände\, andere könnte man Monster nennen\, und einige waren halt einfach nicht ganz perfekt. \n
URL:https://www.strawanzerin.at/termin/soeoet-zeyringer-other-mother/2023-05-06/
LOCATION:brut nordwest\, Nordwestbahnstraße 8-10\, Wien\, Wien\, 1200\, Österreich
CATEGORIES:Theater/Kabarett
ATTACH;FMTTYPE=image/jpeg:https://www.strawanzerin.at/wp-content/uploads/2023/05/Other-Mother_2_c_Soeoet-Zeyringer-scaled.jpg
ORGANIZER;CN="brut%20Wien":MAILTO:info@brut-wien.at
END:VEVENT
END:VCALENDAR