BEGIN:VCALENDAR
VERSION:2.0
PRODID:-//STRAWANZERIN - ECPv4.9.5//NONSGML v1.0//EN
CALSCALE:GREGORIAN
METHOD:PUBLISH
X-WR-CALNAME:STRAWANZERIN
X-ORIGINAL-URL:https://www.strawanzerin.at
X-WR-CALDESC:Veranstaltungen im STRAWANZERIN
BEGIN:VTIMEZONE
TZID:"Europe/Paris"
BEGIN:DAYLIGHT
TZOFFSETFROM:+0100
TZOFFSETTO:+0200
TZNAME:CEST
DTSTART:20170326T010000
END:DAYLIGHT
BEGIN:STANDARD
TZOFFSETFROM:+0200
TZOFFSETTO:+0100
TZNAME:CET
DTSTART:20171029T010000
END:STANDARD
END:VTIMEZONE
BEGIN:VEVENT
DTSTART;TZID="Europe/Paris":20170321T190000
DTEND;TZID="Europe/Paris":20170321T210000
DTSTAMP:20260422T054434
CREATED:20170222T100935Z
LAST-MODIFIED:20170227T144032Z
UID:40267-1490122800-1490130000@www.strawanzerin.at
SUMMARY:Sola Scriptura: Genealogie 1. Mose 46\, 20
DESCRIPTION:„Allein durch die Schrift“: Im Jubiläumsjahr wird die Bibel zu Wort kommen und zum Gespräch einladen. An acht Abenden stellen TheologInnen Texte vor\, die erschrecken\, provozieren – Mühe machen. Diesmal mit Mag. Michael Chalupka (Direktor der Diakonie Österreich) \n
URL:https://www.strawanzerin.at/termin/sola-scriptura-genealogie-1-mose-46-20/
CATEGORIES:Bildung,Deutsch,Gratis,Wien,Workshop
ORGANIZER;CN="Evangelische%20Akademie%20Wien":MAILTO:akademie@evang.at
END:VEVENT
END:VCALENDAR