BEGIN:VCALENDAR
VERSION:2.0
PRODID:-//STRAWANZERIN - ECPv4.9.5//NONSGML v1.0//EN
CALSCALE:GREGORIAN
METHOD:PUBLISH
X-WR-CALNAME:STRAWANZERIN
X-ORIGINAL-URL:https://www.strawanzerin.at
X-WR-CALDESC:Veranstaltungen im STRAWANZERIN
BEGIN:VTIMEZONE
TZID:"Europe/Vienna"
BEGIN:DAYLIGHT
TZOFFSETFROM:+0100
TZOFFSETTO:+0200
TZNAME:CEST
DTSTART:20240331T010000
END:DAYLIGHT
BEGIN:STANDARD
TZOFFSETFROM:+0200
TZOFFSETTO:+0100
TZNAME:CET
DTSTART:20241027T010000
END:STANDARD
END:VTIMEZONE
BEGIN:VEVENT
DTSTART;TZID="Europe/Vienna":20240527T180000
DTEND;TZID="Europe/Vienna":20240527T180000
DTSTAMP:20260420T234228
CREATED:20240528T123114Z
LAST-MODIFIED:20240528T123114Z
UID:99599-1716832800-1716832800@www.strawanzerin.at
SUMMARY:Solidarität mit dem FZ – Kommunikationszentrum für Frauen\, Lesben\, Migrantinnen und Mädchen
DESCRIPTION:Informationsabend und Diskussion zur Geschichte des FZ\, zur aktuellen Situation und zu Möglichkeiten praktischer Solidarität. Das FZ Wien entstand als Teil der autonomen Frauenbewegung und wurde gegründet\, um Frauen und Mädchen einen sicheren und geschützten Raum zu bieten. Die Stadt Wien und der WUK-Vorstand sperrten im April 2023 das FZ aus ihren Räumen in der Währinger Straße 59/6 aus. Nun reichte der WUK-Vorstand eine Räumungsklage ein. Dies ist ein Angriff auf die autonome Frauenbewegung und auf feministische Strukturen. Wir kämpfen für den Weiterbestand des unbefristeten Nutzungsverhältnisses. Eine Stadt ohne Frauenräume ist wie eine Nacht ohne Sterne und Träume. \nModeration: Andrea Strutzmann \nDie Veranstaltung ist für Frauen \n
URL:https://www.strawanzerin.at/termin/solidaritaet-mit-dem-fz-kommunikationszentrum-fuer-frauen-lesben-migrantinnen-und-maedchen/
LOCATION:Frauenbildungsstätte Frauenhetz\, Untere Weißgerberstraße 41\, Wien\, Wien\, 1030\, Österreich
CATEGORIES:Barrierefrei,Bürger_innenrechte,Deutsch,Feminismus,Gratis,Rechtshilfe/Unterstützung,Soziale Kämpfe,Vortrag/Symposium,Wien
GEO:48.2084854;16.3946163
X-APPLE-STRUCTURED-LOCATION;VALUE=URI;X-ADDRESS=Frauenbildungsstätte Frauenhetz Untere Weißgerberstraße 41 Wien Wien 1030 Österreich;X-APPLE-RADIUS=500;X-TITLE=Untere Weißgerberstraße 41:geo:16.3946163,48.2084854
END:VEVENT
END:VCALENDAR