BEGIN:VCALENDAR
VERSION:2.0
PRODID:-//STRAWANZERIN - ECPv4.9.5//NONSGML v1.0//EN
CALSCALE:GREGORIAN
METHOD:PUBLISH
X-WR-CALNAME:STRAWANZERIN
X-ORIGINAL-URL:https://www.strawanzerin.at
X-WR-CALDESC:Veranstaltungen im STRAWANZERIN
BEGIN:VTIMEZONE
TZID:"Europe/Helsinki"
BEGIN:DAYLIGHT
TZOFFSETFROM:+0200
TZOFFSETTO:+0300
TZNAME:EEST
DTSTART:20160327T010000
END:DAYLIGHT
BEGIN:STANDARD
TZOFFSETFROM:+0300
TZOFFSETTO:+0200
TZNAME:EET
DTSTART:20161030T010000
END:STANDARD
END:VTIMEZONE
BEGIN:VEVENT
DTSTART;TZID="Europe/Helsinki":20160721T201500
DTEND;TZID="Europe/Helsinki":20160721T220000
DTSTAMP:20260420T193555
CREATED:20160623T074307Z
LAST-MODIFIED:20160623T074307Z
UID:30608-1469132100-1469138400@www.strawanzerin.at
SUMMARY:Sommer-Comedy Hit »Mannsbilder« in der Komödie am Kai
DESCRIPTION:Mit ihnen ist es manchmal schwierig\, ohne sie geht jedoch nichts: »Mannsbilder«! Von 21. Juli bis 27. August 2016 nimmt sie die Komödie am Kai in allen Facetten humorig unter die Lupe. In Doppelconférencen à la Farkas und Waldbrunn zeigen Michael Duregger und Peter Kuderna\, wie zwei völlig unterschiedliche »Exemplare« auf die Damenwelt einwirken. Bernadette Mezgolits macht das Bühnentrio in der Inszenierung von Sissy Boran und Andrea Eckstein perfekt. Die Lachmuskeln dürfen gespannt sein! \nSpielzeiten:\n21. Juli bis 27. August 2016\, DI bis SA 20.15 Uhr \nFoto: Bernadette Mezgolits\, Michael Duregger und Peter Kuderna\nFoto/© Komödie am Kai\, Wien \n
URL:https://www.strawanzerin.at/termin/sommer-comedy-hit-mannsbilder-in-der-komoedie-am-kai/2016-07-21/
LOCATION:Komödie am Kai\, Franz-Josefs-Kai 29\, Wien\, Wien\, 1010\, Österreich
CATEGORIES:ab 7,Deutsch,Kunst/Kultur,Theater/Kabarett,Wien
ATTACH;FMTTYPE=image/jpeg:https://www.strawanzerin.at/wp-content/uploads/2016/06/214presse1-Kopie.jpg
GEO:48.2121522;16.3749182
X-APPLE-STRUCTURED-LOCATION;VALUE=URI;X-ADDRESS=Komödie am Kai Franz-Josefs-Kai 29 Wien Wien 1010 Österreich;X-APPLE-RADIUS=500;X-TITLE=Franz-Josefs-Kai 29:geo:16.3749182,48.2121522
END:VEVENT
END:VCALENDAR