BEGIN:VCALENDAR
VERSION:2.0
PRODID:-//STRAWANZERIN - ECPv4.9.5//NONSGML v1.0//EN
CALSCALE:GREGORIAN
METHOD:PUBLISH
X-WR-CALNAME:STRAWANZERIN
X-ORIGINAL-URL:https://www.strawanzerin.at
X-WR-CALDESC:Veranstaltungen im STRAWANZERIN
BEGIN:VTIMEZONE
TZID:"Europe/Vienna"
BEGIN:DAYLIGHT
TZOFFSETFROM:+0100
TZOFFSETTO:+0200
TZNAME:CEST
DTSTART:20210328T010000
END:DAYLIGHT
BEGIN:STANDARD
TZOFFSETFROM:+0200
TZOFFSETTO:+0100
TZNAME:CET
DTSTART:20211031T010000
END:STANDARD
END:VTIMEZONE
BEGIN:VEVENT
DTSTART;TZID="Europe/Vienna":20210830T090000
DTEND;TZID="Europe/Vienna":20210903T160000
DTSTAMP:20260423T123806
CREATED:20210527T115946Z
LAST-MODIFIED:20210601T115141Z
UID:77453-1630314000-1630684800@www.strawanzerin.at
SUMMARY:Sommerfrische im Musischen Zentrum Wien
DESCRIPTION:Eine Woche lang Tanzen\, Singen\, Theater spielen und Kunstwerkeln! \nDieses Jahr tauchen wir mit „Arielle\, die Meerjungfrau“ in eine faszinierende Unterwasserwelt ein und gehen auf eine musikalische Entdeckungsreise: Wir singen unter dem Meer\, inszenieren blubbernde Szenen und entwickeln bunte\, fließende Choreografien! \nWann? 30. August bis 3. September 2021 täglich von 9.00 bis 16.00 Uhr \nWo? Musisches Zentrum Wien\, Zeltgasse 7\, 1080 Wien \nFür wen? Kinder von 7 bis 15 Jahre \nKosten: EUR 250\,-. Getränke\, Obst und Kekse werden zur Verfügung gestellt\, die Kinder bringen ihre Mittagsjause selbst mit. \nGeschwisterrabatt EUR 20\,- \nAnmeldung: ab Mitte Mai. Der Kursplatz ist erst mit der Kursplatzbestätigung und erfolgter Überweisung des Kursbetrags gesichert. \nAnmeldeschluss: 28.6.2021 \nStornogebühr: bis 14 Tage vor Kursbeginn:  EUR 100\,-\, ab Kursbeginn wird der volle Kursbetrag einbehalten. \nInformationen und Anmeldung: Für die Anmeldung zur Sommerfrische schicken Sie uns bitte eine E-Mail mit dem Betreff „Anmeldung Sommerfrische 2021“ an musisches-zentrum@jugendzentren.at mit folgenden Informationen: \nName\, Geburtsdatum\, Telefonnummer\, Adresse und E-Mail Adresse \nBegrenzte Teilnehmer_innenzahl! \nÄnderungen vorbehalten\, Umsetzung anhand des aktuell geltenden Präventionskonzeptes. \n
URL:https://www.strawanzerin.at/termin/sommerfrische-im-musischen-zentrum-wien/
LOCATION:Musisches Zentrum Wien\, Zeltgasse 7\, Wien\, Wien\, 1080\, Österreich
CATEGORIES:Kinderkultur,Musik,Tanz,Theater/Kabarett
ATTACH;FMTTYPE=image/jpeg:https://www.strawanzerin.at/wp-content/uploads/2021/05/Pressefoto_Sommerfrische_cderunmuthigeFotograf.jpg
ORGANIZER;CN="Musisches%20Zentrum%20Wien":MAILTO:musisches-zentrum@jugendzentren.at
END:VEVENT
END:VCALENDAR