BEGIN:VCALENDAR
VERSION:2.0
PRODID:-//STRAWANZERIN - ECPv4.9.5//NONSGML v1.0//EN
CALSCALE:GREGORIAN
METHOD:PUBLISH
X-WR-CALNAME:STRAWANZERIN
X-ORIGINAL-URL:https://www.strawanzerin.at
X-WR-CALDESC:Veranstaltungen im STRAWANZERIN
BEGIN:VTIMEZONE
TZID:"Europe/Vienna"
BEGIN:DAYLIGHT
TZOFFSETFROM:+0100
TZOFFSETTO:+0200
TZNAME:CEST
DTSTART:20230326T010000
END:DAYLIGHT
BEGIN:STANDARD
TZOFFSETFROM:+0200
TZOFFSETTO:+0100
TZNAME:CET
DTSTART:20231029T010000
END:STANDARD
END:VTIMEZONE
BEGIN:VEVENT
DTSTART;TZID="Europe/Vienna":20230606T190000
DTEND;TZID="Europe/Vienna":20230606T213000
DTSTAMP:20260421T152821
CREATED:20230521T172854Z
LAST-MODIFIED:20230521T172854Z
UID:91636-1686078000-1686087000@www.strawanzerin.at
SUMMARY:Sommerkonzert Akkordeonverein FORTE
DESCRIPTION:Ein Abend mit dem Akkordeonmusikverein FORTE \nAm 6.6.2023\, 19:00 im Haus der Begegnung\, Brigittenau (Raffelgasse 11-13\, 1200) \nMusikalisch mit dabei: Herb Alpert\, Glen Miller\, Mireille Mathieu\, Harry Belafonte\, Peter Kraus und viele mehr. \nEintritt frei! \nWir freuen uns auf Sie und auf einen gemeinsamen Abend voll Swing\, Tijuana Brass und Rock’n’Roll! \nwwww.musikverein-forte.at \n
URL:https://www.strawanzerin.at/termin/sommerkonzert-akkordeonverein-forte/
LOCATION:Haus der Begegnung Brigittenau\, Raffaelgasse 11-13\, 1200 Wien\, Raffaelgasse 11-13\, Wien\, wien\, 1200\, Österreich
CATEGORIES:Musik
ATTACH;FMTTYPE=image/png:https://www.strawanzerin.at/wp-content/uploads/2023/05/Sommerkonzert-gold.png
ORGANIZER;CN="Musikverein%20FORTE":MAILTO:musikverein.forte@chello.at
END:VEVENT
END:VCALENDAR