BEGIN:VCALENDAR
VERSION:2.0
PRODID:-//STRAWANZERIN - ECPv4.9.5//NONSGML v1.0//EN
CALSCALE:GREGORIAN
METHOD:PUBLISH
X-WR-CALNAME:STRAWANZERIN
X-ORIGINAL-URL:https://www.strawanzerin.at
X-WR-CALDESC:Veranstaltungen im STRAWANZERIN
BEGIN:VTIMEZONE
TZID:"Europe/Vienna"
BEGIN:DAYLIGHT
TZOFFSETFROM:+0100
TZOFFSETTO:+0200
TZNAME:CEST
DTSTART:20210328T010000
END:DAYLIGHT
BEGIN:STANDARD
TZOFFSETFROM:+0200
TZOFFSETTO:+0100
TZNAME:CET
DTSTART:20211031T010000
END:STANDARD
END:VTIMEZONE
BEGIN:VEVENT
DTSTART;TZID="Europe/Vienna":20210817T183000
DTEND;TZID="Europe/Vienna":20210817T193000
DTSTAMP:20260420T181652
CREATED:20210705T115042Z
LAST-MODIFIED:20210713T115937Z
UID:78356-1629225000-1629228600@www.strawanzerin.at
SUMMARY:Sommerkonzert • Katharina Bleier
DESCRIPTION:Katharina Bleier\, Klavier \nOlga NEUWIRTH incidendo/fluido\nCharlotte SEITHER Gran Passo\nJohn CAGE 4’33’’\nAnnea LOCKWOOD Ear-Walking Woman\nNatalie PRAWOSSUDOWITSCH Primitivi op. 17\nKatharina KLEMENT tatsächlich ohne Ausdruck\nAnna THORVALDSDOTTIR Scape \nEintritt frei (Anmeldung erforderlich) \nWie ein Wanderer\, der eine Landschaft erkundet\, begibt sich die »Ear-Walking Woman« auf eine Expedition ins Innere des Klaviers. Sensibilität für Varianten und Differenzierungen der Klänge weisen der Spielerin den Weg in die klangvolle Stille. Dem gegenüber stehen durchkomponierte Werke\, die »Anders-Hören« herausfordern: etwa in der Verstimmung und mikrointervallischen Binnendifferenzierung des Klavierklangs\, im Umschlagen von Rhythmus in Tonhöhe\, gewollter Ausdruckslosigkeit oder der ironischen Schlichtheit der von Schönberg-Schülerin Natalie Prawossudowitsch erdachten Klavierstücke.\nMit Videoprojektion aus dem Klavierinnenraum \nBildnachweis: Katharina Bleier © Regina Längle \n
URL:https://www.strawanzerin.at/termin/sommerkonzert-katharina-bleier/
LOCATION:Arnold Schönberg Center – Palais Fanto\, Schwarzenbergplatz 6 / Eingang Zaunergasse 1-3\, Wien\, 1030\, Österreich
CATEGORIES:Gratis,Kunst/Kultur,Musik,Wien
ATTACH;FMTTYPE=image/jpeg:https://www.strawanzerin.at/wp-content/uploads/2021/07/Bleier.jpg
ORGANIZER;CN="Arnold%20Sch%C3%B6nberg%20Center":MAILTO:shop@schoenberg.at
END:VEVENT
END:VCALENDAR