BEGIN:VCALENDAR
VERSION:2.0
PRODID:-//STRAWANZERIN - ECPv4.9.5//NONSGML v1.0//EN
CALSCALE:GREGORIAN
METHOD:PUBLISH
X-WR-CALNAME:STRAWANZERIN
X-ORIGINAL-URL:https://www.strawanzerin.at
X-WR-CALDESC:Veranstaltungen im STRAWANZERIN
BEGIN:VTIMEZONE
TZID:"Europe/Paris"
BEGIN:DAYLIGHT
TZOFFSETFROM:+0100
TZOFFSETTO:+0200
TZNAME:CEST
DTSTART:20150329T010000
END:DAYLIGHT
BEGIN:STANDARD
TZOFFSETFROM:+0200
TZOFFSETTO:+0100
TZNAME:CET
DTSTART:20151025T010000
END:STANDARD
END:VTIMEZONE
BEGIN:VEVENT
DTSTART;TZID="Europe/Paris":20150522T193000
DTEND;TZID="Europe/Paris":20150522T235500
DTSTAMP:20260421T195323
CREATED:20150427T113409Z
LAST-MODIFIED:20150510T171941Z
UID:14299-1432323000-1432338900@www.strawanzerin.at
SUMMARY:Song Contest Quiz
DESCRIPTION:Am 22. Mai ab 19:30 Uhr können alle ihr Wissen über den Eurovision Song Contest bei uns testen! Wir stellen Quizfragen aus dem Buch THE VERY BEST OF SONG CONTEST – wer aufmerksam gelesen hat erhöht seine Chancen\, einen von vielen tollen Preisen zu gewinnen! \nAußerdem erfahren sie alles rund um die bemerkenswertesten Rekorde\, peinlichsten Pannen\, skurrilsten Auftritte\, glanzvollsten Siege und bittersten Niederlagen in der Geschichte des ESC. \n
URL:https://www.strawanzerin.at/termin/song-contest-quiz/
LOCATION:Galerie der Komischen Künste im MQ\, Museumsplatz 1\, quartier21\, Wien\, 1070\, Österreich
CATEGORIES:Deutsch,Fest,Gratis,Wien
ATTACH;FMTTYPE=:
GEO:48.2023052;16.3479814
X-APPLE-STRUCTURED-LOCATION;VALUE=URI;X-ADDRESS=Galerie der Komischen Künste im MQ Museumsplatz 1 quartier21 Wien 1070 Österreich;X-APPLE-RADIUS=500;X-TITLE=Museumsplatz 1\, quartier21:geo:16.3479814,48.2023052
END:VEVENT
END:VCALENDAR