BEGIN:VCALENDAR
VERSION:2.0
PRODID:-//STRAWANZERIN - ECPv4.9.5//NONSGML v1.0//EN
CALSCALE:GREGORIAN
METHOD:PUBLISH
X-WR-CALNAME:STRAWANZERIN
X-ORIGINAL-URL:https://www.strawanzerin.at
X-WR-CALDESC:Veranstaltungen im STRAWANZERIN
BEGIN:VTIMEZONE
TZID:"Europe/Vienna"
BEGIN:DAYLIGHT
TZOFFSETFROM:+0100
TZOFFSETTO:+0200
TZNAME:CEST
DTSTART:20250330T010000
END:DAYLIGHT
BEGIN:STANDARD
TZOFFSETFROM:+0200
TZOFFSETTO:+0100
TZNAME:CET
DTSTART:20251026T010000
END:STANDARD
END:VTIMEZONE
BEGIN:VEVENT
DTSTART;TZID="Europe/Vienna":20251014T180000
DTEND;TZID="Europe/Vienna":20251014T200000
DTSTAMP:20260422T161638
CREATED:20251017T080729Z
LAST-MODIFIED:20251017T080729Z
UID:110277-1760464800-1760472000@www.strawanzerin.at
SUMMARY:SOS Demokratie
DESCRIPTION:Zwischen Ausschluss und Demokratieverdrossenheit. \nMehr als ein Drittel aller erwachsenen Wiener:innen durfte bei der Wien Wahl 2025 nicht wählen. Dabei sind sie genauso von politischen Entscheidungen betroffen\, wie alle anderen Wiener:innen auch. In keinem einzigen EU-Land ist es schwieriger\, die Staatsbürger:innenschaft zu erlangen\, als in Österreich. Neben bürokratischen Hürden führen auch finanzielle Hürden dazu\, dass gerade Menschen in schlecht bezahlten aber gleichzeitig sogenannten „systemrelevanten“ Berufen nur schlechte Chancen auf eine Einbürgerung haben. Sie tragen wesentlich zu unserer Gesellschaft bei\, dürfen aber nicht mitbestimmen.\nGleichzeitig lag die Wahlbeteiligung bei nur knapp über 62%.\nGemeinsam mit unseren Gästen und dem Publikum diskutieren wir\, wie man das Wahlrecht ausweiten kann\, wie Hürden zur Staatsbürger:innenschaft abgebaut werden können\, wie man Menschen wieder für Demokratie begeistern kann und welche Beteiligungsmöglichkeiten es abseits von Wahlen gibt. \nGespräch mit:  \nAlma Zadić\, Nationalratsabgeordnete und ehemalige Justizministerin \nOlga Kosanović\, Regisseurin des Films Noch lange keine Lipizzaner \nBerîvan Aslan\, Gemeinderätin und Integrationssprecherin \nBernhard Spindler\, Projektleiter der Pass Egal Wahl von SOS Mitmensch \nWerner Prinzjakowitsch\, pädagogischer Bereichsleiter beim Verein Wiener Jugendzentren \nModeration: Marie Hartig\, Sprecherin des 10. Bundeslandes \n
URL:https://www.strawanzerin.at/termin/sos-demokratie/
LOCATION:VHS Favoriten\, Arthaberplatz 18\, Wien\, 1100
CATEGORIES:Gratis,Vortrag/Symposium
ATTACH;FMTTYPE=image/png:https://www.strawanzerin.at/wp-content/uploads/2025/10/SOS-Demokratie-Websitenbild.png
ORGANIZER;CN="Gr%C3%BCne%20Bildungswerkstatt%20Wien":MAILTO:info.wien@gbw.at
END:VEVENT
END:VCALENDAR