BEGIN:VCALENDAR
VERSION:2.0
PRODID:-//STRAWANZERIN - ECPv4.9.5//NONSGML v1.0//EN
CALSCALE:GREGORIAN
METHOD:PUBLISH
X-WR-CALNAME:STRAWANZERIN
X-ORIGINAL-URL:https://www.strawanzerin.at
X-WR-CALDESC:Veranstaltungen im STRAWANZERIN
BEGIN:VTIMEZONE
TZID:"Europe/Helsinki"
BEGIN:DAYLIGHT
TZOFFSETFROM:+0200
TZOFFSETTO:+0300
TZNAME:EEST
DTSTART:20160327T010000
END:DAYLIGHT
BEGIN:STANDARD
TZOFFSETFROM:+0300
TZOFFSETTO:+0200
TZNAME:EET
DTSTART:20161030T010000
END:STANDARD
END:VTIMEZONE
BEGIN:VEVENT
DTSTART;TZID="Europe/Helsinki":20161012T090000
DTEND;TZID="Europe/Helsinki":20161012T150000
DTSTAMP:20260422T122028
CREATED:20161013T134152Z
LAST-MODIFIED:20161013T134152Z
UID:35115-1476262800-1476284400@www.strawanzerin.at
SUMMARY:„Speaking out Loud!“
DESCRIPTION:International Media Training with Natalie Konyalian (Cyprus) and Ann Kaye (united Kingdom) \nNov 16th & 17th 9.00- 15.00 o’clock \nApply until Oct. 30th 2016 to: redaktion@frauensolidaritaet.org \n
URL:https://www.strawanzerin.at/termin/speaking-out-loud/2016-10-12/
ORGANIZER;CN="Frauen%2Asolidarit%C3%A4t":MAILTO:redaktion@frauensolidaritaet.org
END:VEVENT
END:VCALENDAR