BEGIN:VCALENDAR
VERSION:2.0
PRODID:-//STRAWANZERIN - ECPv4.9.5//NONSGML v1.0//EN
CALSCALE:GREGORIAN
METHOD:PUBLISH
X-WR-CALNAME:STRAWANZERIN
X-ORIGINAL-URL:https://www.strawanzerin.at
X-WR-CALDESC:Veranstaltungen im STRAWANZERIN
BEGIN:VTIMEZONE
TZID:"Europe/Vienna"
BEGIN:DAYLIGHT
TZOFFSETFROM:+0100
TZOFFSETTO:+0200
TZNAME:CEST
DTSTART:20250330T010000
END:DAYLIGHT
BEGIN:STANDARD
TZOFFSETFROM:+0200
TZOFFSETTO:+0100
TZNAME:CET
DTSTART:20251026T010000
END:STANDARD
END:VTIMEZONE
BEGIN:VEVENT
DTSTART;TZID="Europe/Vienna":20250128T193000
DTEND;TZID="Europe/Vienna":20250128T220000
DTSTAMP:20260420T220029
CREATED:20250113T170814Z
LAST-MODIFIED:20250113T170814Z
UID:105459-1738092600-1738101600@www.strawanzerin.at
SUMMARY:Spielraumverengung - Die Resozialisierung der Menschheit
DESCRIPTION:Wohin soll es gehen mit den Menschen\, der Gesellschaft\, der Welt? Diesen Fragen stellt sich Sprachakrobat Bernhard Listabarth im Libretto von SPIELRAUMVERENGUNG. Angewendet werden diese Fragen auf die Beziehungen zwischen der Studentin Emilia\, den unangepassten Mitgliedern Ihrer WG und ihrem neuen Schüler: Sven\, ein geldgieriger Manager\, hat in seinem Leben viel erreicht\, sehnt sich trotz florierender Karriere aber nach mehr Lebenssinn. Er bittet Emilia deshalb ihn sozial zu machen\, was auch immer das heißen soll. \nVerzicht und Abschied\nWährend Sven sich durch Resozialisierungsübungen quält\, treffen grundsätzlich unterschiedliche Philosophien aufeinander. Rettet man den Planeten durch dumpstern? Wenn nein\, soll man es dann trotzdem tun? Braucht es einen Systemwandel\, und wie ändert man individuell ein System? Während Sven und Emilia sich rasend schnell verändern\, scheinen Sie immer weniger Spielraum in ihren Gesprächen und ihrem Handeln vorzufinden. Die Krise wächst\, es wird eng. Da hilft auch Verzicht nicht\, es muss eine Abschiedskultur entstehen. Oder nicht? \nIn diesem Stück bleibt kaum ein Stein auf dem anderen. Zur Musik von Stephan Kerschbaum wird rasant gesungen\, diskutiert und getanzt. Konsumkritische Lebensentwürfe werden hier ebenso in Frage gestellt\, wie alle anderen menschlichen Reaktionen auf Krisen jeder Art. Das Publikum wird SPIELRAUMVERENGUNG nachdenklicher verlassen\, als man von einem Musical vielleicht erwartet. \n
URL:https://www.strawanzerin.at/termin/spielraumverengung-die-resozialisierung-der-menschheit/
LOCATION:Studio Molière (Liechtensteinstraße 37a\, 1090 Wien)\, Liechtensteinstraße 37a\, Wien\, Wien\, 1090\, Österreich
CATEGORIES:Musik,Theater/Kabarett
ATTACH;FMTTYPE=image/jpeg:https://www.strawanzerin.at/wp-content/uploads/2025/01/Spielraumverengung_Sujet_ALLGEMEIN_1.jpg
ORGANIZER;CN="Tonvoll":MAILTO:marina.polly@tonvoll.at 
END:VEVENT
END:VCALENDAR