BEGIN:VCALENDAR
VERSION:2.0
PRODID:-//STRAWANZERIN - ECPv4.9.5//NONSGML v1.0//EN
CALSCALE:GREGORIAN
METHOD:PUBLISH
X-WR-CALNAME:STRAWANZERIN
X-ORIGINAL-URL:https://www.strawanzerin.at
X-WR-CALDESC:Veranstaltungen im STRAWANZERIN
BEGIN:VTIMEZONE
TZID:"Europe/Helsinki"
BEGIN:DAYLIGHT
TZOFFSETFROM:+0200
TZOFFSETTO:+0300
TZNAME:EEST
DTSTART:20160327T010000
END:DAYLIGHT
BEGIN:STANDARD
TZOFFSETFROM:+0300
TZOFFSETTO:+0200
TZNAME:EET
DTSTART:20161030T010000
END:STANDARD
END:VTIMEZONE
BEGIN:VEVENT
DTSTART;TZID="Europe/Helsinki":20161106T093000
DTEND;TZID="Europe/Helsinki":20161106T143000
DTSTAMP:20260420T164153
CREATED:20161014T002051Z
LAST-MODIFIED:20161019T090253Z
UID:35404-1478424600-1478442600@www.strawanzerin.at
SUMMARY:Spielzeugflohmarkt der Pfarre Hernals
DESCRIPTION:Bei unserem Spielzeugflohmarkt finden Sie Spielsachen für Kinder aller Altersgruppen\, Bücher für Kinder und Jugendliche\, „Kinder-Krimskrams“\, Kinder-CDs und -DVDs\, Gesellschaftsspiele und Puzzles für Kinder\, Jugendliche und Erwachsene und vieles mehr.\nDer Erlös des Spielzeugflohmarktes kommt bedürftigen Familien zugute. \n
URL:https://www.strawanzerin.at/termin/spielzeugflohmarkt-der-pfarre-hernals-4/
LOCATION:Pfarrzentrum Hernals – Kalvarienbergkirche\, 17\, St.-Bartholomäus-Platz 3\, Wien\, Wien\, 1170\, Österreich
CATEGORIES:Flohmarkt,Gratis,Wien
ATTACH;FMTTYPE=image/jpeg:https://www.strawanzerin.at/wp-content/uploads/2016/10/rsz_3rsz_puppen-1.jpg
ORGANIZER;CN="Pfarre%20Hernals":MAILTO:kanzlei@kalvarienbergkirche.at
GEO:48.217563;16.3315391
X-APPLE-STRUCTURED-LOCATION;VALUE=URI;X-ADDRESS=Pfarrzentrum Hernals – Kalvarienbergkirche 17 St.-Bartholomäus-Platz 3 Wien Wien 1170 Österreich;X-APPLE-RADIUS=500;X-TITLE=17\, St.-Bartholomäus-Platz 3:geo:16.3315391,48.217563
END:VEVENT
END:VCALENDAR