BEGIN:VCALENDAR
VERSION:2.0
PRODID:-//STRAWANZERIN - ECPv4.9.5//NONSGML v1.0//EN
CALSCALE:GREGORIAN
METHOD:PUBLISH
X-WR-CALNAME:STRAWANZERIN
X-ORIGINAL-URL:https://www.strawanzerin.at
X-WR-CALDESC:Veranstaltungen im STRAWANZERIN
BEGIN:VTIMEZONE
TZID:"Europe/Vienna"
BEGIN:DAYLIGHT
TZOFFSETFROM:+0100
TZOFFSETTO:+0200
TZNAME:CEST
DTSTART:20170326T010000
END:DAYLIGHT
BEGIN:STANDARD
TZOFFSETFROM:+0200
TZOFFSETTO:+0100
TZNAME:CET
DTSTART:20171029T010000
END:STANDARD
END:VTIMEZONE
BEGIN:VEVENT
DTSTART;TZID="Europe/Vienna":20171118T140000
DTEND;TZID="Europe/Vienna":20171118T180000
DTSTAMP:20260419T132218
CREATED:20171101T235102Z
LAST-MODIFIED:20171106T123551Z
UID:48961-1511013600-1511028000@www.strawanzerin.at
SUMMARY:Spielzeugflohmarkt der Pfarre Hernals
DESCRIPTION:Bei unserem Spielzeugflohmarkt finden Sie Spielsachen für Kinder aller Altersgruppen\, Bücher für Kinder und Jugendliche\, „Kinder-Krimskrams“\, Kinder-CDs und -DVDs\, Gesellschaftsspiele und Puzzles für Kinder\, Jugendliche und Erwachsene und vieles mehr. \nDer Erlös des Spielzeugflohmarktes kommt bedürftigen Familien zugute. \n
URL:https://www.strawanzerin.at/termin/spielzeugflohmarkt-der-pfarre-hernals-5/
CATEGORIES:Flohmarkt
ATTACH;FMTTYPE=image/jpeg:https://www.strawanzerin.at/wp-content/uploads/2017/11/rsz_3rsz_puppen.jpg
ORGANIZER;CN="Pfarre%20Hernals":MAILTO:kanzlei@kalvarienbergkirche.at
END:VEVENT
END:VCALENDAR