BEGIN:VCALENDAR
VERSION:2.0
PRODID:-//STRAWANZERIN - ECPv4.9.5//NONSGML v1.0//EN
CALSCALE:GREGORIAN
METHOD:PUBLISH
X-WR-CALNAME:STRAWANZERIN
X-ORIGINAL-URL:https://www.strawanzerin.at
X-WR-CALDESC:Veranstaltungen im STRAWANZERIN
BEGIN:VTIMEZONE
TZID:"Europe/Vienna"
BEGIN:DAYLIGHT
TZOFFSETFROM:+0100
TZOFFSETTO:+0200
TZNAME:CEST
DTSTART:20230326T010000
END:DAYLIGHT
BEGIN:STANDARD
TZOFFSETFROM:+0200
TZOFFSETTO:+0100
TZNAME:CET
DTSTART:20231029T010000
END:STANDARD
END:VTIMEZONE
BEGIN:VEVENT
DTSTART;TZID="Europe/Vienna":20231216T200000
DTEND;TZID="Europe/Vienna":20231216T220000
DTSTAMP:20260421T172537
CREATED:20231123T151154Z
LAST-MODIFIED:20231123T151154Z
UID:95496-1702756800-1702764000@www.strawanzerin.at
SUMMARY:Spital live - Weihnachtskonzert
DESCRIPTION:Genießen Sie einen vorweihnachtlichen musikalischen Abend mit uns! \n
URL:https://www.strawanzerin.at/termin/spital-live-weihnachtskonzert/
LOCATION:VAZ Harmanschlag\, Harmanschlag 100\, St. Martin\, Niederösterreich\, 3971\, Österreich
CATEGORIES:Musik
ATTACH;FMTTYPE=image/jpeg:https://www.strawanzerin.at/wp-content/uploads/2023/11/Spital-live.jpg
ORGANIZER;CN="Kulturwerkstatt%20Harmanschlag":MAILTO:kw.harmanschlag@gmx.at
END:VEVENT
END:VCALENDAR