BEGIN:VCALENDAR
VERSION:2.0
PRODID:-//STRAWANZERIN - ECPv4.9.5//NONSGML v1.0//EN
CALSCALE:GREGORIAN
METHOD:PUBLISH
X-WR-CALNAME:STRAWANZERIN
X-ORIGINAL-URL:https://www.strawanzerin.at
X-WR-CALDESC:Veranstaltungen im STRAWANZERIN
BEGIN:VTIMEZONE
TZID:"Europe/Helsinki"
BEGIN:DAYLIGHT
TZOFFSETFROM:+0200
TZOFFSETTO:+0300
TZNAME:EEST
DTSTART:20140330T010000
END:DAYLIGHT
BEGIN:STANDARD
TZOFFSETFROM:+0300
TZOFFSETTO:+0200
TZNAME:EET
DTSTART:20141026T010000
END:STANDARD
END:VTIMEZONE
BEGIN:VEVENT
DTSTART;TZID="Europe/Helsinki":20141116T190000
DTEND;TZID="Europe/Helsinki":20141116T190000
DTSTAMP:20260422T040208
CREATED:20141013T151011Z
LAST-MODIFIED:20141014T082943Z
UID:7913-1416164400-1416164400@www.strawanzerin.at
SUMMARY:Sport vor Ort
DESCRIPTION:“Politisch ziemlich unkorrekt\, aber zum Brüllen komisch!” WIENER ZEITUNG \nGerammelt volle Shows mit unwiederbringlichen Schauspiel-Sternstunden und literweise Tränen der Freude und des Schmerzes: Das ist SPORT VOR ORT! Theatersport auf höchstem Niveau. Spontaner kann Unterhaltung nicht sein! \nZwei Teams\, gespickt mit den TAG-Impro-Allstars\, treten im knallharten Schlagabtausch gegeneinander an und spielen um die Gunst des Publikums. Blitzschnell und mit scharfem Verstand werden Charaktere aus dem Boden gestampft und in Szene gesetzt. \nNach jeder Runde stimmt das Publikum für jene Mannschaft\, die besser\, schneller\, lustiger improvisiert hat und kürt damit am Ende das Siegerteam. \n
URL:https://www.strawanzerin.at/termin/sport-vor-ort-4/
LOCATION:TAG – Theater an der Gumpendorfer Straße\, Gumpendorfer Straße 67\, Wien\, Wien\, 1060\, Österreich
CATEGORIES:Deutsch,Eintrittspreis,Kunst/Kultur,Theater/Kabarett,Wien
ATTACH;FMTTYPE=image/jpeg:https://www.strawanzerin.at/wp-content/uploads/2014/10/klein_SportvorOrt_c_AlexanderSchuh.jpg
ORGANIZER;CN="TAG%20-%20Theater%20an%20der%20Gumpendorfer%20Stra%C3%9Fe":MAILTO:karten@dastag.at
GEO:48.1954875;16.3512933
X-APPLE-STRUCTURED-LOCATION;VALUE=URI;X-ADDRESS=TAG – Theater an der Gumpendorfer Straße Gumpendorfer Straße 67 Wien Wien 1060 Österreich;X-APPLE-RADIUS=500;X-TITLE=Gumpendorfer Straße 67:geo:16.3512933,48.1954875
END:VEVENT
END:VCALENDAR