BEGIN:VCALENDAR
VERSION:2.0
PRODID:-//STRAWANZERIN - ECPv4.9.5//NONSGML v1.0//EN
CALSCALE:GREGORIAN
METHOD:PUBLISH
X-WR-CALNAME:STRAWANZERIN
X-ORIGINAL-URL:https://www.strawanzerin.at
X-WR-CALDESC:Veranstaltungen im STRAWANZERIN
BEGIN:VTIMEZONE
TZID:"Europe/Vienna"
BEGIN:DAYLIGHT
TZOFFSETFROM:+0100
TZOFFSETTO:+0200
TZNAME:CEST
DTSTART:20170326T010000
END:DAYLIGHT
BEGIN:STANDARD
TZOFFSETFROM:+0200
TZOFFSETTO:+0100
TZNAME:CET
DTSTART:20171029T010000
END:STANDARD
END:VTIMEZONE
BEGIN:VEVENT
DTSTART;TZID="Europe/Vienna":20170330T203000
DTEND;TZID="Europe/Vienna":20170330T223000
DTSTAMP:20260424T195402
CREATED:20170318T085755Z
LAST-MODIFIED:20170318T085755Z
UID:41405-1490905800-1490913000@www.strawanzerin.at
SUMMARY:Spot\, please! #9 Comedy Open Mic Vienna
DESCRIPTION:Come and do the funzees with us. You can perform in english or german and do your very own version of funny. We welcome experienced open mic performers and encourage newcomers to give it a try. To sign up for a spot\, contact Spot\, please – Comedy Open Mic Vienna or comment below „spot please“. The line up will be posted a few days before the event. \nSign up starts: 7:30pm\nShow starts: 8pm\nEntry: Free donations\nWe are excited to see you !! \nKomm her und sei lustig mit uns! Jeder Act ist willkommen: jung oder alt\, erfahren oder Frischling\, Englisch oder Deutsch (in Jahren des Hundes akzeptieren wir sogar Chinesisch). Kurzum: Wir sind eine offene Bühne für alles\, was lustig ist … oder sein soll. Klingt komisch\, ist aber so. Für einen Platz auf der Liste\, meldet euch bei Spot\, please – Comedy Open Mic Vienna direkt oder kommentiert im Event „Spot please“. Das Lineup wird einige Tage vor der Veranstaltung veröffentlicht.  \nAnmeldebeginn: 19:30 Uhr\nShowbeginn: 20:00 Uhr\nEintritt: freie Spende\nWir freuen uns auf euch!!! \n
URL:https://www.strawanzerin.at/termin/spot-please-9-comedy-open-mic-vienna/
CATEGORIES:freie Spende,Theater/Kabarett
ATTACH;FMTTYPE=image/png:https://www.strawanzerin.at/wp-content/uploads/2017/03/17017210_713003625527176_1403303853291648983_o-1.png
END:VEVENT
END:VCALENDAR