BEGIN:VCALENDAR
VERSION:2.0
PRODID:-//STRAWANZERIN - ECPv4.9.5//NONSGML v1.0//EN
CALSCALE:GREGORIAN
METHOD:PUBLISH
X-WR-CALNAME:STRAWANZERIN
X-ORIGINAL-URL:https://www.strawanzerin.at
X-WR-CALDESC:Veranstaltungen im STRAWANZERIN
BEGIN:VTIMEZONE
TZID:"Europe/Helsinki"
BEGIN:DAYLIGHT
TZOFFSETFROM:+0200
TZOFFSETTO:+0300
TZNAME:EEST
DTSTART:20140330T010000
END:DAYLIGHT
BEGIN:STANDARD
TZOFFSETFROM:+0300
TZOFFSETTO:+0200
TZNAME:EET
DTSTART:20141026T010000
END:STANDARD
END:VTIMEZONE
BEGIN:VEVENT
DTSTART;TZID="Europe/Helsinki":20141014T180000
DTEND;TZID="Europe/Helsinki":20141014T203000
DTSTAMP:20260423T154512
CREATED:20140927T200117Z
LAST-MODIFIED:20141006T081214Z
UID:7601-1413309600-1413318600@www.strawanzerin.at
SUMMARY:Sprechen sie Haustechnik?
DESCRIPTION:Grundlagenworkshop der Haustechnik\nWas tun bei Stromausfall oder wenn der Abfluss rinnt? Wieso ist es hier kalt? Wie rede ich mit Dienstleistern von Installateur bis Elektriker auf Augenhöhe? Ein Streifzug durch die Welt hinter den Wänden.\nWorkshopleitung: Christian Frantal\nKosten:€7/ermäßigt €5\nAnmeldung: workshops@recyclingkosmos.at oder 0650 974 99 59 \n
URL:https://www.strawanzerin.at/termin/sprechen-sie-haustechnik/
LOCATION:Recycling Kosmos Zentrale\, Ottakringer Straße 63\, Wien\, Wien\, 1160\, Österreich
CATEGORIES:bis 7,Deutsch,Sonstiges,Wien,Workshop
ORGANIZER;CN="Recycling%20Kosmos":MAILTO:workshops@recyclingkosmos.at
GEO:48.2137812;16.3298013
X-APPLE-STRUCTURED-LOCATION;VALUE=URI;X-ADDRESS=Recycling Kosmos Zentrale Ottakringer Straße 63 Wien Wien 1160 Österreich;X-APPLE-RADIUS=500;X-TITLE=Ottakringer Straße 63:geo:16.3298013,48.2137812
END:VEVENT
END:VCALENDAR