BEGIN:VCALENDAR
VERSION:2.0
PRODID:-//STRAWANZERIN - ECPv4.9.5//NONSGML v1.0//EN
CALSCALE:GREGORIAN
METHOD:PUBLISH
X-WR-CALNAME:STRAWANZERIN
X-ORIGINAL-URL:https://www.strawanzerin.at
X-WR-CALDESC:Veranstaltungen im STRAWANZERIN
BEGIN:VTIMEZONE
TZID:"Europe/Paris"
BEGIN:DAYLIGHT
TZOFFSETFROM:+0100
TZOFFSETTO:+0200
TZNAME:CEST
DTSTART:20150329T010000
END:DAYLIGHT
BEGIN:STANDARD
TZOFFSETFROM:+0200
TZOFFSETTO:+0100
TZNAME:CET
DTSTART:20151025T010000
END:STANDARD
END:VTIMEZONE
BEGIN:VEVENT
DTSTART;TZID="Europe/Paris":20150827T000000
DTEND;TZID="Europe/Paris":20150827T000000
DTSTAMP:20260422T074420
CREATED:20150807T102656Z
LAST-MODIFIED:20150807T102710Z
UID:18948-1440633600-1440633600@www.strawanzerin.at
SUMMARY:Stadtlesen Salzburg
DESCRIPTION:Im Sommer ist es wieder soweit. Von 27. – 30. August 2015 kann am Mozartplatz nach Herzenslust geschmökert werden. Das Stadtlesen macht Halt und lädt mit Sitzsäcken\, Bücherturm und einem Readers Corner zum Lesen\, Vorlesen oder Zuhören ein: jeweils von Donnerstag bis Sonntag ab 9.00 Uhr. Am Freitag ist Integrationslesetag. Dabei sind alle Menschen mit Migrationshintergrund eingeladen\, selbstverfasste Texte in ihrer Muttersprache zu präsentieren. Der Sonntag steht wie jedes Jahr unter dem Motto Familienlesetag. Der Eintritt ist frei. \n
URL:https://www.strawanzerin.at/termin/stadtlesen-salzburg/2015-08-27/
CATEGORIES:Literatur,Salzburg
ATTACH;FMTTYPE=:
END:VEVENT
END:VCALENDAR