BEGIN:VCALENDAR
VERSION:2.0
PRODID:-//STRAWANZERIN - ECPv4.9.5//NONSGML v1.0//EN
CALSCALE:GREGORIAN
METHOD:PUBLISH
X-WR-CALNAME:STRAWANZERIN
X-ORIGINAL-URL:https://www.strawanzerin.at
X-WR-CALDESC:Veranstaltungen im STRAWANZERIN
BEGIN:VTIMEZONE
TZID:"Europe/Vienna"
BEGIN:DAYLIGHT
TZOFFSETFROM:+0100
TZOFFSETTO:+0200
TZNAME:CEST
DTSTART:20260329T010000
END:DAYLIGHT
BEGIN:STANDARD
TZOFFSETFROM:+0200
TZOFFSETTO:+0100
TZNAME:CET
DTSTART:20261025T010000
END:STANDARD
END:VTIMEZONE
BEGIN:VEVENT
DTSTART;TZID="Europe/Vienna":20260311T190000
DTEND;TZID="Europe/Vienna":20260311T203000
DTSTAMP:20260420T151004
CREATED:20260219T102054Z
LAST-MODIFIED:20260219T102054Z
UID:112595-1773255600-1773261000@www.strawanzerin.at
SUMMARY:Stefan Franke „Wiener Klangkulisse“
DESCRIPTION:Vom Klang der Walzer bis zu Beschwerden über musikalische Lärmbelästigung – Der Sprecher und Autor Stefan Franke entführt das Publikum mit Charme und Biss ins Wien von einst\, wo die weltberühmte Musikstadt nicht nur harmonische Töne\, sondern auch den einen oder anderen nervigen Missklang zu bieten hatte. \nNervtötende Drehorgeln\, Lärmbelästigung durch fortwährendes Klavierspiel und laute Signalpfeifchen der Tramway – Wien bot zur Kaiserzeit ein anderes Klangerlebnis als es das heute tut. Mit einer Auswahl an historischen Zeitungstexten\, die sich rund um Geräusche und Klänge der Stadt drehen\, bittet Stefan Franke zur Zeitreise in die Vergangenheit\, ins Wien unserer Vorfahren. \nMit dabei ist die Pianistin Katharina Litschauer\, die den Abend musikalisch untermalt und diesmal besonders bemüht ist\, dem Klavier keine Misstöne\, sondern nur Melodien zu entlocken. \nZur Person – Stefan Franke ist ausgebildeter Sprecher und Autor. Sein Buch „Ein bisserl schimpfen\, ein bisserl räsonieren“ (Carl Ueberreuter Verlag) ist voll mit kuriosen Leser- und Beschwerdebriefe vom Beginn des 20. Jahrhunderts. Auf Instagram (@liebe_anno_dazumal) veröffentlicht er außerdem regelmäßig skurrile historische Kontaktanzeigen. \nEintritt: Spende (Richtwert ca. € 15\,– pro Person)\nReservierung: info@stefanfranke.at \n
URL:https://www.strawanzerin.at/termin/stefan-franke-wiener-klangkulisse/
LOCATION:Cafe Korb\, Brandstätte 9\, Wien\, Wien\, 1010\, Österreich
CATEGORIES:ab 7,Deutsch,Literatur,Wien
ATTACH;FMTTYPE=image/jpeg:https://www.strawanzerin.at/wp-content/uploads/2026/02/stefan-franke__2019-4000px-1mb-scaled.jpg
ORGANIZER;CN="Stefan%20Franke":MAILTO:info@wien-erregt.at
END:VEVENT
END:VCALENDAR