BEGIN:VCALENDAR
VERSION:2.0
PRODID:-//STRAWANZERIN - ECPv4.9.5//NONSGML v1.0//EN
CALSCALE:GREGORIAN
METHOD:PUBLISH
X-WR-CALNAME:STRAWANZERIN
X-ORIGINAL-URL:https://www.strawanzerin.at
X-WR-CALDESC:Veranstaltungen im STRAWANZERIN
BEGIN:VTIMEZONE
TZID:"Europe/Paris"
BEGIN:DAYLIGHT
TZOFFSETFROM:+0100
TZOFFSETTO:+0200
TZNAME:CEST
DTSTART:20150329T010000
END:DAYLIGHT
BEGIN:STANDARD
TZOFFSETFROM:+0200
TZOFFSETTO:+0100
TZNAME:CET
DTSTART:20151025T010000
END:STANDARD
END:VTIMEZONE
BEGIN:VEVENT
DTSTART;TZID="Europe/Paris":20150827T203000
DTEND;TZID="Europe/Paris":20150827T230000
DTSTAMP:20260422T021931
CREATED:20150730T125920Z
LAST-MODIFIED:20150731T073901Z
UID:18824-1440707400-1440716400@www.strawanzerin.at
SUMMARY:Stephan Heiner & Björns Funky Fingers
DESCRIPTION:Stephan Heiner (Vocals/Kontrabass\, Ukulelen-Bass\, Ukulele\, Harp) und Börns FunkyFingers (Vocals/Gitarre) gestalten uns einen Abend mit 50‘s Rock ‘n‘ Roll\, Blues und Balladen bis hin zum Austropop\, in dem sie nicht nur musikalisch\, sondern auch mit ihren akrobatischen Einlagen überzeugen werden! \n
URL:https://www.strawanzerin.at/termin/stephan-heiner-bjoerns-funky-fingers/
LOCATION:Traditionscafé Industrie\, Margaretengürtel 12\, Wien\, Wien\, 1050\, Österreich
CATEGORIES:Deutsch,freie Spende,Musik,Sonstiges,Wien
ATTACH;FMTTYPE=image/jpeg:https://www.strawanzerin.at/wp-content/uploads/2015/07/stephan_heiner_fb.jpg
ORGANIZER;CN="Ruth%20Binder":MAILTO:event@cafe-industrie.at
GEO:48.1838252;16.3664539
X-APPLE-STRUCTURED-LOCATION;VALUE=URI;X-ADDRESS=Traditionscafé Industrie Margaretengürtel 12 Wien Wien 1050 Österreich;X-APPLE-RADIUS=500;X-TITLE=Margaretengürtel 12:geo:16.3664539,48.1838252
END:VEVENT
END:VCALENDAR