BEGIN:VCALENDAR
VERSION:2.0
PRODID:-//STRAWANZERIN - ECPv4.9.5//NONSGML v1.0//EN
CALSCALE:GREGORIAN
METHOD:PUBLISH
X-WR-CALNAME:STRAWANZERIN
X-ORIGINAL-URL:https://www.strawanzerin.at
X-WR-CALDESC:Veranstaltungen im STRAWANZERIN
BEGIN:VTIMEZONE
TZID:"Europe/Vienna"
BEGIN:DAYLIGHT
TZOFFSETFROM:+0100
TZOFFSETTO:+0200
TZNAME:CEST
DTSTART:20180325T010000
END:DAYLIGHT
BEGIN:STANDARD
TZOFFSETFROM:+0200
TZOFFSETTO:+0100
TZNAME:CET
DTSTART:20181028T010000
END:STANDARD
END:VTIMEZONE
BEGIN:VEVENT
DTSTART;TZID="Europe/Vienna":20180517T190000
DTEND;TZID="Europe/Vienna":20180517T220000
DTSTAMP:20260421T042547
CREATED:20180506T112206Z
LAST-MODIFIED:20180508T110549Z
UID:55580-1526583600-1526594400@www.strawanzerin.at
SUMMARY:Stöckelstein und Stolperschuh
DESCRIPTION: Ein Clowninnen – Abend voller weiblich – clownesker Energie! \nVoller brisanter und prekärer Szenen und Situationen\, gemeistert\, gerettet und gestaltet von den drei Olé-Direktorinnen und ihren hochgeschätzten Gästinnen: wundervolle\, starke\, poetische Clownweiber. \n
URL:https://www.strawanzerin.at/termin/stoeckelstein-und-stolperschuh-3/
LOCATION:Theater Olé  – Clown- \, Komik- und Varietétheater\, Barmherzigengasse 18\, Wien\, Wien\, 1030\, Österreich
CATEGORIES:ab 7,Deutsch,Kunst/Kultur,Theater/Kabarett,Wien
ATTACH;FMTTYPE=image/jpeg:https://www.strawanzerin.at/wp-content/uploads/2018/05/Stöckelstein-und-Stolperschuh3.jpg
ORGANIZER;CN="Theater%20Ole-Clown-%20Komik%20-%20und%20Variet%C3%A9theater%20mitten%20in%20Wien":MAILTO:theater-ole@gmx.at
GEO:48.1962173;16.3940663
X-APPLE-STRUCTURED-LOCATION;VALUE=URI;X-ADDRESS=Theater Olé  – Clown-  Komik- und Varietétheater Barmherzigengasse 18 Wien Wien 1030 Österreich;X-APPLE-RADIUS=500;X-TITLE=Barmherzigengasse 18:geo:16.3940663,48.1962173
END:VEVENT
END:VCALENDAR