BEGIN:VCALENDAR
VERSION:2.0
PRODID:-//STRAWANZERIN - ECPv4.9.5//NONSGML v1.0//EN
CALSCALE:GREGORIAN
METHOD:PUBLISH
X-WR-CALNAME:STRAWANZERIN
X-ORIGINAL-URL:https://www.strawanzerin.at
X-WR-CALDESC:Veranstaltungen im STRAWANZERIN
BEGIN:VTIMEZONE
TZID:"Europe/Paris"
BEGIN:DAYLIGHT
TZOFFSETFROM:+0100
TZOFFSETTO:+0200
TZNAME:CEST
DTSTART:20170326T010000
END:DAYLIGHT
BEGIN:STANDARD
TZOFFSETFROM:+0200
TZOFFSETTO:+0100
TZNAME:CET
DTSTART:20171029T010000
END:STANDARD
END:VTIMEZONE
BEGIN:VEVENT
DTSTART;TZID="Europe/Paris":20170307T093000
DTEND;TZID="Europe/Paris":20170307T103000
DTSTAMP:20260422T040636
CREATED:20170220T092552Z
LAST-MODIFIED:20170220T092552Z
UID:40012-1488879000-1488882600@www.strawanzerin.at
SUMMARY:Stopp Risikoreaktoren rund um Österreich
DESCRIPTION:Kundgebung \n
URL:https://www.strawanzerin.at/termin/stopp-risikoreaktoren-rund-um-oesterreich/
CATEGORIES:Gratis,Kundgebung,Ökologie,Wien
ORGANIZER;CN="Wiener%20Plattform%20Atomkraftfrei":MAILTO:atomkraftfreiezukunft@gmx.at
END:VEVENT
END:VCALENDAR