BEGIN:VCALENDAR
VERSION:2.0
PRODID:-//STRAWANZERIN - ECPv4.9.5//NONSGML v1.0//EN
CALSCALE:GREGORIAN
METHOD:PUBLISH
X-WR-CALNAME:STRAWANZERIN
X-ORIGINAL-URL:https://www.strawanzerin.at
X-WR-CALDESC:Veranstaltungen im STRAWANZERIN
BEGIN:VTIMEZONE
TZID:"Europe/Vienna"
BEGIN:DAYLIGHT
TZOFFSETFROM:+0100
TZOFFSETTO:+0200
TZNAME:CEST
DTSTART:20190331T010000
END:DAYLIGHT
BEGIN:STANDARD
TZOFFSETFROM:+0200
TZOFFSETTO:+0100
TZNAME:CET
DTSTART:20191027T010000
END:STANDARD
END:VTIMEZONE
BEGIN:VEVENT
DTSTART;TZID="Europe/Vienna":20190731T120000
DTEND;TZID="Europe/Vienna":20190731T190000
DTSTAMP:20260420T005215
CREATED:20190724T163216Z
LAST-MODIFIED:20190903T155455Z
UID:66333-1564574400-1564599600@www.strawanzerin.at
SUMMARY:Summer Popup Art 2 / 4
DESCRIPTION:SUMMER POPUP ART ist eine Serie aus 4 Gruppenausstellungen der besonderen Art\, jeweils vier spannende KünstlerInnen zeigen eine Auswahl ihrer Arbeiten in den Räumen der popup street vienna in Währing. \nPART 2/4 \n24.7.- 3.8.2019 / Mi – SA jeweils 12 – 19 Uhr \nIrene Alkistis-Wechsler – //www.facebook.com/AlkistisIRENE/\nMike Blumentopf – //www.blumentopf.at\nChristian Emil Cerny – //www.christianemilcerny.com/\nHeber Ferraz-Leite – //www.kulturvernetzung.at/de/heber-ferraz-leite/ \nIn Zusammenarbeit von popup street vienna\, Atelier Blumentopf\, art18 und der O.HO Momo Hoeflinger Galerie gibt es vier Gruppenausstellung mit insgesamt 16 KünstlerInnen zu sehen ! \nVienna PopUp-Street\nDurchgang Währinger Str. 100 / Gentzgasse 21\n1180 Wien \n
URL:https://www.strawanzerin.at/termin/summer-popup-art-2-4/2019-07-31/
LOCATION:Vienna Popup Street\, Währinger Str. 100\, 1180 Wien\, Währinger Str. 100\, Wien\, 1180\, Österreich
CATEGORIES:Ausstellung,Kunst/Kultur
ATTACH;FMTTYPE=image/jpeg:https://www.strawanzerin.at/wp-content/uploads/2019/07/spa_002.jpg
ORGANIZER;CN="art18%20vernetzte%20kunst%20w%C3%A4hring":MAILTO:mike@blumentopf.at
END:VEVENT
END:VCALENDAR