BEGIN:VCALENDAR
VERSION:2.0
PRODID:-//STRAWANZERIN - ECPv4.9.5//NONSGML v1.0//EN
CALSCALE:GREGORIAN
METHOD:PUBLISH
X-WR-CALNAME:STRAWANZERIN
X-ORIGINAL-URL:https://www.strawanzerin.at
X-WR-CALDESC:Veranstaltungen im STRAWANZERIN
BEGIN:VTIMEZONE
TZID:"Europe/Vienna"
BEGIN:DAYLIGHT
TZOFFSETFROM:+0100
TZOFFSETTO:+0200
TZNAME:CEST
DTSTART:20240331T010000
END:DAYLIGHT
BEGIN:STANDARD
TZOFFSETFROM:+0200
TZOFFSETTO:+0100
TZNAME:CET
DTSTART:20241027T010000
END:STANDARD
END:VTIMEZONE
BEGIN:VEVENT
DTSTART;TZID="Europe/Vienna":20241122T150000
DTEND;TZID="Europe/Vienna":20241122T200000
DTSTAMP:20260420T083129
CREATED:20241025T155633Z
LAST-MODIFIED:20241025T155633Z
UID:104278-1732287600-1732305600@www.strawanzerin.at
SUMMARY:Symposium: Ambivalenzen der Moderne
DESCRIPTION:Der Architekt und Stadtplaner Roland Rainer zwischen Diktatur und Demokratie \nWie hat die Architekturmoderne mit politischen Systemen interagiert? Und wie lassen sich biografische Lücken in Architekturnachlässen erklären und füllen? Beiden Fragen ging ein FWF-Forschungsprojekt am Beispiel von Roland Rainer nach. Das Symposium stellt die Ergebnisse dieser Kooperation zwischen Akademie der bildenden Künste Wien und Architekturzentrum Wien zur Diskussion. \nDie Übergabe des Nachlasses des österreichischen Architekten Roland Rainer (1910–2004) an das Architekturzentrum Wien im Jahr 2015 ermöglichte eine wissenschaftliche Kontextualisierung dieses zentralen Werks der Architekturmoderne. Der nach dem Zweiten Weltkrieg einflussreiche Architekt\, Stadtplaner\, Theoretiker und Hochschullehrer hat viele seiner Ideen und Konzepte bereits in den 1930er- und 1940er-Jahren entwickelt\, unter anderem während seiner acht Jahre im Dienst des Verwaltungsapparats der Nationalsozialist* innen in Berlin und Breslau. In kritischer Auseinandersetzung mit Respondent*innen diskutieren Ingrid Holzschuh\, Waltraud P. Indrist\, Monika Platzer\, Susanne Rick und Angelika Schnell ihre Forschungsergebnisse im Architekturzentrum Wien und an der Akademie der bildenden Künste Wien. Das zweitägige Symposium präsentiert sowohl neueste Ergebnisse aus der Archivforschung als auch vergleichende visuelle Analysen verschiedener Stadtplanungskonzepte. Im Zentrum steht die Frage nach seiner Modernität\, die Einordnung in den kontroversiellen Diskurs zur Architekturmoderne und ihre politisch-ideologischen Verstrickungen. \nEine Kooperation von Az W und Akademie der bildenden Künste Wien. Gefördert vom Fonds zur Förderung der wissenschaftlichen Forschung (FWF\, P 34938) \nPROGRAMM \nFr 22.11.\, 15:00–20:00\, Az W Podium \nBegrüßung: Angelika Fitz\, Direktorin Az W; Johan Hartle\, Rektor Akademie der bildenden Künste (AdbK)\nEinführung: Angelika Schnell\, IKA\, AdbK \nBrüche und Kontinuitäten\nIngrid Holzschuh\, IKA\, AdbK Biografische Dissonanzen. Rainers Rolle im Planungsapparat der NS-Diktatur\nMonika Platzer\, Az W Von Planungen\, politischen Debatten und Netzwerken. Roland Rainer im Nachkriegsösterreich \nRespondenz: Winfried Nerdinger\, München; Antje Senarclens de Grancy\, TU Graz \n18:30 Keynote: Ulrich Herbert\, Zeithistoriker\, Universität Freiburg \nSa 23.11.\, 09:00–13:00\, Akademie der bildenden Künste Wien\, Anatomiesaal \nVon Quellen und Daten\nSusanne Rick\, IKA\, AdbK Vom Archiv zur wissenschaftlichen Praxis: Die Roland-Rainer-Datenbank als Werkzeug für die architekturhistorische Forschung \nDiskursrahmen der Architekturmoderne\nWaltraud P. Indrist\, IKA\, AdbK „Die gegliederte und aufgelockerte Stadt“ – Eine Schrift und die Anpassungsfähigkeit ihrer „wissenschaftlichen“ Argumente \nAngelika Schnell\, IKA\, AdbK „Das politisch Unbewusste“. Roland Rainer und der Diskurs über die Architekturmoderne \nRespondenz: Katja Bernhardt\, Univ. Hamburg; Kenny Cupers\, Univ. Basel; Anna Minta\, KU Linz \nResümee: Daniel Gethmann\, TU Graz \nFr 22.11.\, 15:00–20:00\, Az W Podium & Sa 23.11.\, 09:00–13:00\, Akademie der bildenden Künste Wien\, Anatomiesaal \nEintritt frei \nRückfragen\nTheresia Lippitsch\n+43-1-522 31 15-15\noffice@azw.at \nFoto:\nRoland Rainer: „Wie groß ist eine aus ebenerdigen Häusern bestehende Stadt?“\, in: Roland Rainer\, Ebenerdige Wohnhäuser\, Berglandverlag Wien\,1948 \n
URL:https://www.strawanzerin.at/termin/symposium-ambivalenzen-der-moderne/
LOCATION:Architekturzentrum Wien\, Museumsplatz 1\, 1070 Wien\, 1070\, Österreich
ATTACH;FMTTYPE=image/jpeg:https://www.strawanzerin.at/wp-content/uploads/2024/10/kleinGUAS-1957-GUAS-Garten-und-Freitzeit-Flaechenargument_red-Ausschnitt_S.-37.jpg
GEO:48.2026499;16.3591421
X-APPLE-STRUCTURED-LOCATION;VALUE=URI;X-ADDRESS=Architekturzentrum Wien Museumsplatz 1 1070 Wien 1070 Österreich;X-APPLE-RADIUS=500;X-TITLE=Museumsplatz 1:geo:16.3591421,48.2026499
END:VEVENT
END:VCALENDAR