BEGIN:VCALENDAR
VERSION:2.0
PRODID:-//STRAWANZERIN - ECPv4.9.5//NONSGML v1.0//EN
CALSCALE:GREGORIAN
METHOD:PUBLISH
X-WR-CALNAME:STRAWANZERIN
X-ORIGINAL-URL:https://www.strawanzerin.at
X-WR-CALDESC:Veranstaltungen im STRAWANZERIN
BEGIN:VTIMEZONE
TZID:"Europe/Vienna"
BEGIN:DAYLIGHT
TZOFFSETFROM:+0100
TZOFFSETTO:+0200
TZNAME:CEST
DTSTART:20190331T010000
END:DAYLIGHT
BEGIN:STANDARD
TZOFFSETFROM:+0200
TZOFFSETTO:+0100
TZNAME:CET
DTSTART:20191027T010000
END:STANDARD
END:VTIMEZONE
BEGIN:VEVENT
DTSTART;TZID="Europe/Vienna":20190614T100000
DTEND;TZID="Europe/Vienna":20190614T200000
DTSTAMP:20260422T140907
CREATED:20190417T143227Z
LAST-MODIFIED:20190506T133908Z
UID:64397-1560506400-1560542400@www.strawanzerin.at
SUMMARY:Symposium: Serielles Bauen meets Wiener Wohnbau. Ein Symposium von Az W und IBA_Wien
DESCRIPTION:Serielles und modulares Bauen sind wieder Thema\, denn gesellschaftliche Veränderungen wie Fluchtbewegungen\, aber auch die anhaltende Binnenmigration oder veränderte Lebensstile führen in vielen Städten zu erhöhtem Wohnraumbedarf. Wie kann unter den Bedingungen des 21. Jahrhunderts Wohnraum rasch\, kostengünstig\, qualitativ hochwertig und dabei variantenreich geschaffen werden? \nRückfragen\nSonja Pisarik\n+43-1-522 31 15-26\npisarik@azw.at \n
URL:https://www.strawanzerin.at/termin/symposium-serielles-bauen-meets-wiener-wohnbau-ein-symposium-von-az-w-und-iba_wien/
LOCATION:Architekturzentrum Wien\, Museumsplatz 1\, 1070 Wien\, 1070\, Österreich
CATEGORIES:Vortrag/Symposium
ATTACH;FMTTYPE=image/jpeg:https://www.strawanzerin.at/wp-content/uploads/2019/04/ARTEC_SMAQamPARK_Berresgasse_c2018-ZOOMVP-1024x576.jpg
GEO:48.2026499;16.3591421
X-APPLE-STRUCTURED-LOCATION;VALUE=URI;X-ADDRESS=Architekturzentrum Wien Museumsplatz 1 1070 Wien 1070 Österreich;X-APPLE-RADIUS=500;X-TITLE=Museumsplatz 1:geo:16.3591421,48.2026499
END:VEVENT
END:VCALENDAR