BEGIN:VCALENDAR
VERSION:2.0
PRODID:-//STRAWANZERIN - ECPv4.9.5//NONSGML v1.0//EN
CALSCALE:GREGORIAN
METHOD:PUBLISH
X-WR-CALNAME:STRAWANZERIN
X-ORIGINAL-URL:https://www.strawanzerin.at
X-WR-CALDESC:Veranstaltungen im STRAWANZERIN
BEGIN:VTIMEZONE
TZID:"Europe/Vienna"
BEGIN:DAYLIGHT
TZOFFSETFROM:+0100
TZOFFSETTO:+0200
TZNAME:CEST
DTSTART:20190331T010000
END:DAYLIGHT
BEGIN:STANDARD
TZOFFSETFROM:+0200
TZOFFSETTO:+0100
TZNAME:CET
DTSTART:20191027T010000
END:STANDARD
END:VTIMEZONE
BEGIN:VEVENT
DTSTART;TZID="Europe/Vienna":20191019T160000
DTEND;TZID="Europe/Vienna":20191019T213000
DTSTAMP:20260421T135129
CREATED:20191013T195816Z
LAST-MODIFIED:20191016T170058Z
UID:69535-1571500800-1571520600@www.strawanzerin.at
SUMMARY:Tag des Flamenco
DESCRIPTION:\nDie spanische Kunst übt eine große Faszination aus. Das Temperament\, die Leidenschaft des Tanzes\, der Gitarre und des Gesangs sind einzigartig.\nDer Tag des Flamenco widmet sich ausschließlich der spanischen Kunst. Es können die verschiedenen Facetten und Zugänge zum Flamenco kennengelernt werden.\nIn Form von Workshops bekommen die Interessierten einen Einblick in die Welt der Rhythmen\, der Gitarre und dem Tanz. Um den Tag mit einem besonderen Schmankerl ausklingen zu lassen\, gibt der Gitarren Virtuose Flaco de Nerja ein Konzert\, wo er sein neues Album „Paseos“ vorstellt. Die Weltpremiere fand auf einem der wichtigsten Gitarrenfestivals in Kaluga statt\, wo er seine Kompositionen gemeinsam mit den Moskauer Philharmonikern präsentierte.  \nLernen Sie die Rhythmen und das Klatschen vom Meister der Percussion Jorge Palomo aus Malaga\,\nEinblicke in die Gitarre gibt Flaco de Nerja und die grundlegende Technik im Tanz zeigt die Tänzerin Sandra La Chispa.\nDer Tag des Flamenco bringt das Temperament und die Lebensfreude nach Wien und viel Spaß für alle\, die mitmachen. \nAnmeldung ist unbedingt erforderlich unter kulturvereinwien@hotmail.com\nWorkshops:\nWorkshop I Palmas\, Rhythmen\nWorkshop II Gitarre\nWorkshop III Einführung in den Tanz\, Sevillana \nwww.flacodenerja.com\nwww.flamenco-festival.com \n
URL:https://www.strawanzerin.at/termin/tag-des-flamenco/
LOCATION:Mi barrio\, Münzwardeingasse 2\, Wien\, Wien\, 1060\, Österreich
CATEGORIES:Kunst/Kultur,Musik,Tanz,Workshop
ATTACH;FMTTYPE=image/jpeg:https://www.strawanzerin.at/wp-content/uploads/2019/10/sandramanton.jpg
GEO:48.1940546;16.3518428
X-APPLE-STRUCTURED-LOCATION;VALUE=URI;X-ADDRESS=Mi barrio Münzwardeingasse 2 Wien Wien 1060 Österreich;X-APPLE-RADIUS=500;X-TITLE=Münzwardeingasse 2:geo:16.3518428,48.1940546
END:VEVENT
END:VCALENDAR