BEGIN:VCALENDAR
VERSION:2.0
PRODID:-//STRAWANZERIN - ECPv4.9.5//NONSGML v1.0//EN
CALSCALE:GREGORIAN
METHOD:PUBLISH
X-WR-CALNAME:STRAWANZERIN
X-ORIGINAL-URL:https://www.strawanzerin.at
X-WR-CALDESC:Veranstaltungen im STRAWANZERIN
BEGIN:VTIMEZONE
TZID:"Europe/Vienna"
BEGIN:DAYLIGHT
TZOFFSETFROM:+0100
TZOFFSETTO:+0200
TZNAME:CEST
DTSTART:20210328T010000
END:DAYLIGHT
BEGIN:STANDARD
TZOFFSETFROM:+0200
TZOFFSETTO:+0100
TZNAME:CET
DTSTART:20211031T010000
END:STANDARD
END:VTIMEZONE
BEGIN:VEVENT
DTSTART;TZID="Europe/Vienna":20211003T190000
DTEND;TZID="Europe/Vienna":20211003T210000
DTSTAMP:20260421T185036
CREATED:20210914T113352Z
LAST-MODIFIED:20210914T113352Z
UID:80296-1633287600-1633294800@www.strawanzerin.at
SUMMARY:TAGebuch Slam
DESCRIPTION:TAGebuch Slam\nStell dich deinen Jugendsünden!\nEine Kooperation von Slam B und dem TAG\nSlam \nSüße Fremdscham: Wer kennt sie nicht? Die glorios peinlichen und umso amüsanteren Tagebuch-Ergüsse aus Teenager*innenzeiten\, Reisetagebüchern oder einfach von damals? Wir haben sie! \nEine peinlich-lustige Zeitreise in die Abgründe der eigenen und fremden Pubertät und Kindheit. Ehrlich\, berührend\, schonungslos\, betrübt\, übertrieben\, sehnsüchtig\, haltlos und unverstanden. So waren und sind sie\, unsere Schul- und Jugendjahre. Und so sind unsere Tagebucheinträge aus dieser wilden und unberechenbaren Zeit des Erwachsenwerdens. \nIm TAG lesen Laien aus ihren alten Tagebüchern vor. Das Publikum entscheidet über die Siegerin/den Sieger des Abends\, die/der sich über einen Taschengeldzuschuss freuen kann. Eine Reality-Show der etwas anderen Art – mit Sicherheit der persönlichste aller Slams. \nModeration\nDiana Köhle \nPreise:\nVVK/AK/online € 15\nErmäßigt*: VVK (nicht online) und AK € 12\n(*für Studierende bis 27 Jahre\, Schüler*innen\, Lehrlinge\, Präsenz- und Zivildiener) \n
URL:https://www.strawanzerin.at/termin/tagebuch-slam-27/2021-10-03/
LOCATION:TAG – Theater an der Gumpendorfer Straße\, Gumpendorfer Straße 67\, Wien\, Wien\, 1060\, Österreich
CATEGORIES:Theater/Kabarett,Wien
ATTACH;FMTTYPE=image/jpeg:https://www.strawanzerin.at/wp-content/uploads/2021/09/TAGEBUCH-SLAM_c_AnnaKonrath.jpg
ORGANIZER;CN="TAG%20-%20Theater%20an%20der%20Gumpendorfer%20Stra%C3%9Fe":MAILTO:karten@dastag.at
GEO:48.1954875;16.3512933
X-APPLE-STRUCTURED-LOCATION;VALUE=URI;X-ADDRESS=TAG – Theater an der Gumpendorfer Straße Gumpendorfer Straße 67 Wien Wien 1060 Österreich;X-APPLE-RADIUS=500;X-TITLE=Gumpendorfer Straße 67:geo:16.3512933,48.1954875
END:VEVENT
END:VCALENDAR