BEGIN:VCALENDAR
VERSION:2.0
PRODID:-//STRAWANZERIN - ECPv4.9.5//NONSGML v1.0//EN
CALSCALE:GREGORIAN
METHOD:PUBLISH
X-WR-CALNAME:STRAWANZERIN
X-ORIGINAL-URL:https://www.strawanzerin.at
X-WR-CALDESC:Veranstaltungen im STRAWANZERIN
BEGIN:VTIMEZONE
TZID:"Europe/Vienna"
BEGIN:DAYLIGHT
TZOFFSETFROM:+0100
TZOFFSETTO:+0200
TZNAME:CEST
DTSTART:20200329T010000
END:DAYLIGHT
BEGIN:STANDARD
TZOFFSETFROM:+0200
TZOFFSETTO:+0100
TZNAME:CET
DTSTART:20201025T010000
END:STANDARD
END:VTIMEZONE
BEGIN:VEVENT
DTSTART;TZID="Europe/Vienna":20200315T190000
DTEND;TZID="Europe/Vienna":20200315T190000
DTSTAMP:20260420T213518
CREATED:20200130T104928Z
LAST-MODIFIED:20200130T104928Z
UID:71669-1584298800-1584298800@www.strawanzerin.at
SUMMARY:TAGebuchslam
DESCRIPTION:TAGebuch SLAM \nStell dich deinen Jugendsünden! \nEine Kooperation von Slam B und dem TAG \nTermine\nSo 15. März 2020\, 19.00\nSo 22. März 2020\, 19.00\nSo 5. April 2020\, 19.00 \n„Pubertät kann wirklich erheiternd sein\, wenn man darüber hinweg ist.“ DER STANDARD\nOh\, süße Fremdscham: Wer kennt sie nicht? Die glorios peinlichen und umso amüsanteren Tagebuch-Ergüsse aus Teenagerzeiten\, Reisetagebüchern oder einfach von damals? Wir haben sie!\nEine peinlich-lustige Zeitreise in die Abgründe der eigenen und fremden Pubertät und Kindheit. Ehrlich\, berührend\, schonungslos\, betrübt\, übertrieben\, sehnsüchtig\, haltlos und unverstanden. So waren und sind sie\, unsere Schul- und Jugendjahre. Und so sind unsere Tagebucheinträge aus dieser wilden und unberechenbaren Zeit des Erwachsenwerdens.\nIm TAG lesen Laien aus ihren alten Tagebüchern vor. Das Publikum entscheidet über die Siegerin/den Sieger des Abends\, die/der sich über einen Taschengeldzuschuss freuen kann. Eine Reality-Show der etwas anderen Art – mit Sicherheit der persönlichste aller Slams. \nDurch den Abend führt Diana Köhle\nTeilnehmer/innen bitte bei diana@liebestagebuch.at anmelden \nKarten\nVorverkauf/Abendkassa/Online: 11 Euro\nErmäßigt* Vorverkauf/Abendkassa (Online nicht möglich): 9 Euro\n*Studierende bis 27 Jahre\, SchülerInnen\, Lehrlinge\, Präsenz- und Zivildiener. \n
URL:https://www.strawanzerin.at/termin/tagebuchslam/2020-03-15/
LOCATION:TAG – Theater an der Gumpendorfer Straße\, Gumpendorfer Straße 67\, Wien\, Wien\, 1060\, Österreich
CATEGORIES:Theater/Kabarett
ATTACH;FMTTYPE=image/jpeg:https://www.strawanzerin.at/wp-content/uploads/2020/01/TAGEBUCH-SLAM_c_AnnaKonrath.jpg
ORGANIZER;CN="TAG%20-%20Theater%20an%20der%20Gumpendorfer%20Stra%C3%9Fe":MAILTO:karten@dastag.at
GEO:48.1954875;16.3512933
X-APPLE-STRUCTURED-LOCATION;VALUE=URI;X-ADDRESS=TAG – Theater an der Gumpendorfer Straße Gumpendorfer Straße 67 Wien Wien 1060 Österreich;X-APPLE-RADIUS=500;X-TITLE=Gumpendorfer Straße 67:geo:16.3512933,48.1954875
END:VEVENT
END:VCALENDAR