BEGIN:VCALENDAR
VERSION:2.0
PRODID:-//STRAWANZERIN - ECPv4.9.5//NONSGML v1.0//EN
CALSCALE:GREGORIAN
METHOD:PUBLISH
X-WR-CALNAME:STRAWANZERIN
X-ORIGINAL-URL:https://www.strawanzerin.at
X-WR-CALDESC:Veranstaltungen im STRAWANZERIN
BEGIN:VTIMEZONE
TZID:"Europe/Paris"
BEGIN:DAYLIGHT
TZOFFSETFROM:+0100
TZOFFSETTO:+0200
TZNAME:CEST
DTSTART:20150329T010000
END:DAYLIGHT
BEGIN:STANDARD
TZOFFSETFROM:+0200
TZOFFSETTO:+0100
TZNAME:CET
DTSTART:20151025T010000
END:STANDARD
END:VTIMEZONE
BEGIN:VEVENT
DTSTART;TZID="Europe/Paris":20150623T114000
DTEND;TZID="Europe/Paris":20150623T114000
DTSTAMP:20260420T224119
CREATED:20150615T100455Z
LAST-MODIFIED:20150615T100533Z
UID:17603-1435059600-1435059600@www.strawanzerin.at
SUMMARY:Tanz\, Theater und Performance
DESCRIPTION:Vom 23. Juni bis 4. Juli findet die Sommerszene 2015 statt. Mit 15 Produktionen an zehn verschiedenen Orten erobert das Festival auch heuer wieder Salzburg und seine öffentlichen Räume. Hubert Lepka/lawine torrèn eröffnet dabei das Festival mit der Uraufführung von „SÄGEWERK“\, einer romantischen Geschichte die Natur inszeniert. „Die Loge“ am Salzburger Hauptbahnhof bietet luftige Einblicke in eine Choreographie des Alltags und das belgisch-palästinensische Stück „BADKE“ begeistert mit Tempo und unbändigem Lebenswillen. \nKarten: 0662 84 37 11\nProgramm: szene-salzburg.net \nFoto: (c) Magdalena Lepka \n
URL:https://www.strawanzerin.at/termin/tanz-theater-und-performance/2015-06-23/
LOCATION:Österreich
CATEGORIES:Salzburg,Tanz,Theater/Kabarett
ATTACH;FMTTYPE=:
END:VEVENT
END:VCALENDAR