BEGIN:VCALENDAR
VERSION:2.0
PRODID:-//STRAWANZERIN - ECPv4.9.5//NONSGML v1.0//EN
CALSCALE:GREGORIAN
METHOD:PUBLISH
X-WR-CALNAME:STRAWANZERIN
X-ORIGINAL-URL:https://www.strawanzerin.at
X-WR-CALDESC:Veranstaltungen im STRAWANZERIN
BEGIN:VTIMEZONE
TZID:"Europe/Vienna"
BEGIN:DAYLIGHT
TZOFFSETFROM:+0100
TZOFFSETTO:+0200
TZNAME:CEST
DTSTART:20250330T010000
END:DAYLIGHT
BEGIN:STANDARD
TZOFFSETFROM:+0200
TZOFFSETTO:+0100
TZNAME:CET
DTSTART:20251026T010000
END:STANDARD
END:VTIMEZONE
BEGIN:VEVENT
DTSTART;TZID="Europe/Vienna":20251019T193000
DTEND;TZID="Europe/Vienna":20251019T193000
DTSTAMP:20260421T022639
CREATED:20250828T082246Z
LAST-MODIFIED:20250828T082246Z
UID:109151-1760902200-1760902200@www.strawanzerin.at
SUMMARY:Tanz*Hotel Gast*Spiele (16.-26.10.2025)
DESCRIPTION:Dance Poetry Performances | Eine Produktion von Tanz*Hotel | In Koproduktion mit den Residenzkünstler*innen und Gäst*innen | In Kooperation mit Theater am Werk \nTanz*Hotel (T*H) lädt zu seinen GAST*SPIELEN ins Theater am Werk am Petersplatz\, im Gepäck dabei sind Eigen-\, Ko- und Gast­produktionen mit literarischem Bezug.\nEs ist nach 2023 das nächste T*H Crossover-Festival seiner Art und präsentiert im diesjährigen Themenschwerpunkt „Dance Poetry Performances“ aktuelle Produktionen aus dem zeitgenössischen Tanz\, Musik und Performance\, die alle auf literarische Quellen Bezug nehmen. Das wechselnde Programm des Festivals umfasst 10 Acts an 8 Spieltagen und wird von Bert Gstettner\, Tänzer-Choreograf und Tanz*Hotel-Leitung\, kuratiert:\n„Sprache und Poesie als Bewegung\, Musik\, Körper­text – Tanzsprache.“ \n16.10.2025 Chimeric Clone / Fragmente*Liebe / becoming [stone]\n17.10.2025 Fragmente*Liebe / becoming [stone]\n19.10.2025 Chimeric Clone / Du Bleda Bua\n21.-22.10.2025 Sonanzen | Bruni Sand räumt die Wohnung – ein autobiografisches Gewebe / Zwischen Zwiebeln\n24.-25.10.2025 Deer Dream* / Poor Guy\n26.10.2025 Chimeric Clone / Moritaten aus dem Wienerwald \nMehr Infos unter https://www.theater-am-werk.at/de/productions/tanz-hotel-gast-spiele \n
URL:https://www.strawanzerin.at/termin/tanzhotel-gastspiele-16-26-10-2025/2025-10-19/
LOCATION:Theater am Werk am Petersplatz\, Petersplatz 1\, Wien\, Wien\, 1010\, Österreich
CATEGORIES:Tanz,Theater/Kabarett,Wien
ATTACH;FMTTYPE=image/jpeg:https://www.strawanzerin.at/wp-content/uploads/2025/08/TanzHotel-GastSpiele.jpg
ORGANIZER;CN="Theater%20am%20Werk":MAILTO:reservierung@theater-am-werk.at
END:VEVENT
END:VCALENDAR