BEGIN:VCALENDAR
VERSION:2.0
PRODID:-//STRAWANZERIN - ECPv4.9.5//NONSGML v1.0//EN
CALSCALE:GREGORIAN
METHOD:PUBLISH
X-WR-CALNAME:STRAWANZERIN
X-ORIGINAL-URL:https://www.strawanzerin.at
X-WR-CALDESC:Veranstaltungen im STRAWANZERIN
BEGIN:VTIMEZONE
TZID:"Europe/Vienna"
BEGIN:DAYLIGHT
TZOFFSETFROM:+0100
TZOFFSETTO:+0200
TZNAME:CEST
DTSTART:20230326T010000
END:DAYLIGHT
BEGIN:STANDARD
TZOFFSETFROM:+0200
TZOFFSETTO:+0100
TZNAME:CET
DTSTART:20231029T010000
END:STANDARD
END:VTIMEZONE
BEGIN:VEVENT
DTSTART;TZID="Europe/Vienna":20231013T170000
DTEND;TZID="Europe/Vienna":20231013T200000
DTSTAMP:20260423T230519
CREATED:20230817T095715Z
LAST-MODIFIED:20230817T095715Z
UID:92783-1697216400-1697227200@www.strawanzerin.at
SUMMARY:Teamsitzungen und Arbeitsgruppen erfolgreich moderieren
DESCRIPTION:Vereinsarbeit ist Teamarbeit. In Kulturvereinen arbeiten unterschiedliche Menschen für eine gemeinsame Sache zusammen. Probleme werden häufig in der Gruppe angegangen und gelöst. \nUmso wichtiger ist eine zielorientierte Steuerung interner Prozesse im Verein oder im Team: Wie leitet man eine Sitzung? Wie geht man mit Unmut und Störungen um und wie sichert man den Output? Wie moderiert man eine Arbeitsgruppe auf fokussierte Art und Weise und erzeugt nachhaltige Ergebnisse? \nIn diesem Workshop lernen Sie\, wie Sie Besprechungen und Ideenfindungsprozesse richtig lenken\, um strukturiert und effektiv Ergebnisse zu erzielen. Wir arbeiten an ausgewählten Moderations- und Visualisierungstechniken sowie am notwendigen kommunikationspsychologischen und gruppendynamischen Rüstzeug. \nReferent: Lothar Tschapka\, Universitätslehrer\, Rhetorik-/Sprechtrainer und Moderator \nEintritt frei\nTeilnahme nur nach Anmeldung bei Bernadette Goldberger\, Vereinsakademie BASIS.KULTUR.WIEN\, goldberger@basiskultur.at\, 0660 174 92 66 \n
URL:https://www.strawanzerin.at/termin/teamsitzungen-und-arbeitsgruppen-erfolgreich-moderieren/
LOCATION:Vereinslokal BASIS.KULTUR.WIEN\, Reuenthalgasse 2-4/1/R02\, Wien\, 1150\, Österreich
CATEGORIES:Gratis,Wien,Workshop
ATTACH;FMTTYPE=image/png:https://www.strawanzerin.at/wp-content/uploads/2023/08/13.10.-Teamsitzungen-c-Pixabay.png
ORGANIZER;CN="Basis.Kultur.Wien":MAILTO:presse@basiskultur.at
END:VEVENT
END:VCALENDAR